BEGIN:VCALENDAR
VERSION:2.0
PRODID:-//jEvents 2.0 for Joomla//EN
CALSCALE:GREGORIAN
METHOD:PUBLISH
BEGIN:VTIMEZONE
TZID:Europe/Berlin
BEGIN:STANDARD
DTSTART:20241216T100000
RDATE:20250330T030000
TZOFFSETFROM:+0200
TZOFFSETTO:+0100
TZNAME:Europe/Berlin CET
END:STANDARD
BEGIN:STANDARD
DTSTART:20251026T020000
RDATE:20260329T030000
TZOFFSETFROM:+0200
TZOFFSETTO:+0100
TZNAME:Europe/Berlin CET
END:STANDARD
BEGIN:STANDARD
DTSTART:20261025T020000
RDATE:20270328T030000
TZOFFSETFROM:+0200
TZOFFSETTO:+0100
TZNAME:Europe/Berlin CET
END:STANDARD
BEGIN:STANDARD
DTSTART:20271031T020000
RDATE:20280326T030000
TZOFFSETFROM:+0200
TZOFFSETTO:+0100
TZNAME:Europe/Berlin CET
END:STANDARD
BEGIN:STANDARD
DTSTART:20281029T020000
RDATE:20290325T030000
TZOFFSETFROM:+0200
TZOFFSETTO:+0100
TZNAME:Europe/Berlin CET
END:STANDARD
BEGIN:STANDARD
DTSTART:20291028T020000
RDATE:20300331T030000
TZOFFSETFROM:+0200
TZOFFSETTO:+0100
TZNAME:Europe/Berlin CET
END:STANDARD
BEGIN:STANDARD
DTSTART:20301027T020000
RDATE:20310330T030000
TZOFFSETFROM:+0200
TZOFFSETTO:+0100
TZNAME:Europe/Berlin CET
END:STANDARD
BEGIN:STANDARD
DTSTART:20311026T020000
RDATE:20320328T030000
TZOFFSETFROM:+0200
TZOFFSETTO:+0100
TZNAME:Europe/Berlin CET
END:STANDARD
BEGIN:DAYLIGHT
DTSTART:20250330T030000
RDATE:20251026T020000
TZOFFSETFROM:+0100
TZOFFSETTO:+0200
TZNAME:Europe/Berlin CEST
END:DAYLIGHT
BEGIN:DAYLIGHT
DTSTART:20260329T030000
RDATE:20261025T020000
TZOFFSETFROM:+0100
TZOFFSETTO:+0200
TZNAME:Europe/Berlin CEST
END:DAYLIGHT
BEGIN:DAYLIGHT
DTSTART:20270328T030000
RDATE:20271031T020000
TZOFFSETFROM:+0100
TZOFFSETTO:+0200
TZNAME:Europe/Berlin CEST
END:DAYLIGHT
BEGIN:DAYLIGHT
DTSTART:20280326T030000
RDATE:20281029T020000
TZOFFSETFROM:+0100
TZOFFSETTO:+0200
TZNAME:Europe/Berlin CEST
END:DAYLIGHT
BEGIN:DAYLIGHT
DTSTART:20290325T030000
RDATE:20291028T020000
TZOFFSETFROM:+0100
TZOFFSETTO:+0200
TZNAME:Europe/Berlin CEST
END:DAYLIGHT
BEGIN:DAYLIGHT
DTSTART:20300331T030000
RDATE:20301027T020000
TZOFFSETFROM:+0100
TZOFFSETTO:+0200
TZNAME:Europe/Berlin CEST
END:DAYLIGHT
BEGIN:DAYLIGHT
DTSTART:20310330T030000
RDATE:20311026T020000
TZOFFSETFROM:+0100
TZOFFSETTO:+0200
TZNAME:Europe/Berlin CEST
END:DAYLIGHT
END:VTIMEZONE
BEGIN:VEVENT
UID:7730c42bb1c250b8ced5ae2d656f78db
CATEGORIES:Veranstaltungen
CREATED:20251121T104336
SUMMARY:Einladung zum Männerfrühstück
DESCRIPTION:<br /><br /><div class="moduletable ">
            <h3 >Wer weiß denn sowas
 ?</h3>        

<div class="custom"  >
	<iframe src="https://www.raetselstu
 nde.de/quizfrage-zufall.html" name="Zufalls-Quizfrage" width="100%" height=
 "200" frameborder="0" scrolling="no" align="middle"></iframe></div>
</div>

 <br /><div class="moduletable ">
            <h4 >Das könnte Sie ebenfalls 
 interessieren:</h4>        
<div class="magz-layout list-layout row">
			<d
 iv class="blog-item col-12">
			<div class="item-inner">
			<!-- Item image
  -->
						<!-- // Item image -->
			
			<div class="item-ct">

									<h
 3 class="item-title"><a class="mod-articles-category-title " href="/einladu
 ng-zur-mitgliederversammlung-am-29-04-2026">Einladung zur Mitgliederversamm
 lung am 29.04.2026</a></h3>
				
				<div class="item-meta">
					
					
		
 							</div>

									<p class="item-introtext">
						Sehr geehrtes Mitg
 lied,unsere diesjährige ordentliche Mitgliederversammlung findet statt <str
 ong>am Mittwoch, 29.04.2026 um 17.00 Uhr in Raum 300 (2. Stock links) des R
 athauses,</strong>Am Rathaus 9 in Fuldatal-Ihringshausen,zu der hiermit her
 zlichst eingeladen wird.  Auf der Tagesordnung stehen folgende Themen:  TOP
  1: Eröffnung und Begrüßung  TOP 2:&nbsp; Gedenken an unsere verstorbenen M
 itglieder  TOP 3:&nbsp; Berichte: Des Vorsitzenden und der Kassiererin  TOP
  4:&nbsp; Aussprache zu den Berichten  TOP 5:&nbsp; Bericht der Revisoren u
 nd Antrag auf Entlastung des Vorstandes  TOP 6:&nbsp; Wahl einer Kassenprüf
 erin oder eines Kassenprüfers  TOP 7:&nbsp;...					</p>
				
									<p cl
 ass="item-readmore">
						<a class="mod-articles-category-title " href="/e
 inladung-zur-mitgliederversammlung-am-29-04-2026">
															Weiterles
 en &hellip;													</a>
					</p>
							</div>

			</div>
		</div>
		
 	<div class="blog-item col-12">
			<div class="item-inner">
			<!-- Item im
 age -->
						<!-- // Item image -->
			
			<div class="item-ct">

								
 	<h3 class="item-title"><a class="mod-articles-category-title " href="/ihr-
 android-smartphon-tablet-das-unbekannte-wesen">Ihr Android Smartphon /Table
 t - das unbekannte Wesen</a></h3>
				
				<div class="item-meta">
					
		
 			
									</div>

									<p class="item-introtext">
						Haben Sie kü
 rzlich ein neues Smartphone/-Tablet erworben oder beabsichtigen Sie, sich d
 iese neue Technik zuzulegen?  Und……………..  -&nbsp;sind noch unsicher mit der
  Bedienung,  -&nbsp;oder möchten noch weitere Funktionen kennenlernen,&nbsp
 ;wie z.B. Ersteinrichtung,&nbsp;Installation von Apps,&nbsp;Nutzung der Kam
 era,&nbsp;Versenden von Textnachrichten.    &nbsp;Dann bieten wir Ihnen uns
 ere Unterstützung an.&nbsp;  <strong>Der nächste Workshop begann am&nbsp;25
 .03.2026&nbsp;von&nbsp;10.30&nbsp;Uhr – 11.30&nbsp;Uhr&nbsp;und findet&nbsp
 ;jede Woche&nbsp;statt, insgesamt&nbsp;ca.6 x,&nbsp;maximal 10 Personen,&nb
 sp;im Rathaus&nbsp;2.Stock Zimmer&nbsp;301&nbsp;statt.&nbsp;</strong>  Um V
 oranmeldung wird gebeten.  Weitere Informationen erhalten...					</p>
				

 									<p class="item-readmore">
						<a class="mod-articles-category-ti
 tle " href="/ihr-android-smartphon-tablet-das-unbekannte-wesen">
										
 					Weiterlesen &hellip;													</a>
					</p>
							</div>

			</di
 v>
		</div>
			<div class="blog-item col-12">
			<div class="item-inner">
	
 		<!-- Item image -->
						<!-- // Item image -->
			
			<div class="item-
 ct">

									<h3 class="item-title"><a class="mod-articles-category-title
  " href="/kulissenschieber-fuldatal-boten-guns-n-nuns">Kulissenschieber Ful
 datal boten „Guns ‚n‘ Nuns“</a></h3>
				
				<div class="item-meta">
					
 
					
									</div>

									<p class="item-introtext">
						Im gut ge
 füllten FuldaTalerForum in Fuldatal-Ihringshausen wurde am Nachmittag des F
 rühlingsanfangs (21. März) Theaterfreunden ein ebenso unterhaltsames wie ge
 lungenes Erlebnis geboten: Das Ensemble der Kulissenschieber präsentierte d
 ie spritzige Kriminalkomödie „Guns ’n’ Nuns“ – und traf damit genau ins Sch
 warze. Der Eintritt war frei, doch die zahlreichen Besucherinnen und Besuch
 er zeigten sich überaus spendabel. Die gesammelten Spenden kommen dem Nachb
 arschaftsverein Fuldatal zugute, der gemeinsam mit den Kulissenschiebern zu
  diesem besonderen Theaternachmittag eingeladen hatte.  Bereits beim...				
 	</p>
				
									<p class="item-readmore">
						<a class="mod-articles-
 category-title " href="/kulissenschieber-fuldatal-boten-guns-n-nuns">
					
 										Weiterlesen &hellip;													</a>
					</p>
							</div>

		
 	</div>
		</div>
			<div class="blog-item col-12">
			<div class="item-inne
 r">
			<!-- Item image -->
						<!-- // Item image -->
			
			<div class="
 item-ct">

									<h3 class="item-title"><a class="mod-articles-category-
 title " href="/gesunde-ernaehrung-im-alter-was-tut-mir-gut">Gesunde Ernähru
 ng im Alter - was tut mir gut?</a></h3>
				
				<div class="item-meta">
		
 			
					
									</div>

									<p class="item-introtext">
						Auf gr
 oße Resonanz stieß die offene Informationsveranstaltung zum Thema „Gesunde 
 Ernährung im Alter – was tut mir gut?“, zu der der Seniorenbeirat sowie der
  Nachbarschaftsverein Fuldatal Mitte März eingeladen hatten. Interessierte 
 Bürgerinnen und Bürger, darunter auch Fuldatals Bürgermeister Tore Florin, 
 nutzten die Gelegenheit, sich umfassend zu informieren und miteinander ins 
 Gespräch zu kommen.    <em>Referentin Brigitte Ringeler-Leipholz in Aktion<
 /em>  Den Schwerpunkt der Veranstaltung bildete das Thema „Fette“ als wicht
 iger Bestandteil einer ausgewogenen und abwechslungsreichen Ernährung. Die.
 ..					</p>
				
									<p class="item-readmore">
						<a class="mod-art
 icles-category-title " href="/gesunde-ernaehrung-im-alter-was-tut-mir-gut">
 
															Weiterlesen &hellip;													</a>
					</p>
							</di
 v>

			</div>
		</div>
			<div class="blog-item col-12">
			<div class="ite
 m-inner">
			<!-- Item image -->
						<!-- // Item image -->
			
			<div c
 lass="item-ct">

									<h3 class="item-title"><a class="mod-articles-cat
 egory-title " href="/seelisches-wohlergehen-im-alter">Seelisches Wohlergehe
 n im Alter: Informationsveranstaltung in Fuldatal stieß auf großes Interess
 e</a></h3>
				
				<div class="item-meta">
					
					
									</div>

		
 							<p class="item-introtext">
						Auf Einladung des Seniorenbeirats u
 nd des Nachbarschaftsvereins Fuldatal hatten interessierte Bürgerinnen und 
 Bürger in der vorletzten Januarwoche die Gelegenheit, sich intensiv mit ein
 em Thema auseinanderzusetzen, das viele Menschen bewegt: dem seelischen Woh
 lergehen im Alter. Die gut besuchte Informationsveranstaltung bot wertvolle
  Impulse, praxisnahe Anregungen und Raum für Austausch in angenehmer Atmosp
 häre.  Als Referentin konnte die Psychologin und Therapeutin&nbsp;Cordula S
 chmidt&nbsp;gewonnen werden, die den Teilnehmenden auf verständliche und zu
 gleich fundierte Weise wissenschaftlich belegte,...					</p>
				
									
 <p class="item-readmore">
						<a class="mod-articles-category-title " hre
 f="/seelisches-wohlergehen-im-alter">
															Weiterlesen &hellip;		
 											</a>
					</p>
							</div>

			</div>
		</div>
			<div class="
 blog-item col-12">
			<div class="item-inner">
			<!-- Item image -->
					
 	<!-- // Item image -->
			
			<div class="item-ct">

									<h3 class="i
 tem-title"><a class="mod-articles-category-title " href="/neujahrskonzert-2
 026-der-musikschule-chroma">Neujahrskonzert 2026 der Musikschule Chroma</a>
 </h3>
				
				<div class="item-meta">
					
					
									</div>

							
 		<p class="item-introtext">
						Natürlich war der Nachbarschaftsverein F
 uldatal beim traditionellen Neujahrskonzert der Musikschule Chroma in der M
 ehrzweckhalle in Vellmar-Frommershausen wieder mit von der Partie. Die Loui
 s Spohr-Sinfonietta unter der Leitung von Lore Schrettner begeisterte die z
 ahlreichen Gäste auf ein Neues mit virtuos dargebotenen Stücken, voller tem
 peramentvoller Hingabe, aber auch gefühlvoll und besinnlich.  <em>Die Louis
  Spohr-Sinfonietta unter der Leitung von Lore Schrettner (Bildmitte)</em> D
 as breit gefächerte Repertoire umfasste dieses Mal unter anderem Stücke von
  Robert Stolz, wie den UNO-Marsch &nbsp;sowie –...					</p>
				
									<
 p class="item-readmore">
						<a class="mod-articles-category-title " href
 ="/neujahrskonzert-2026-der-musikschule-chroma">
															Weiterlesen
  &hellip;													</a>
					</p>
							</div>

			</div>
		</div>
			<
 div class="blog-item col-12">
			<div class="item-inner">
			<!-- Item imag
 e -->
						<!-- // Item image -->
			
			<div class="item-ct">

									<
 h3 class="item-title"><a class="mod-articles-category-title " href="/senior
 en-in-bewegung-neustart-nach-der-winterpause-am-15-januar">Senioren in Bewe
 gung - nach der Winterpause am 15. Januar neu gestartet</a></h3>
				
				<
 div class="item-meta">
					
					
									</div>

									<p class="item
 -introtext">
						Der Nachbarschaftsverein bringt „Senioren in Bewegung“ –
  Training für eine sichere Mobilität im Alltag Einmal wöchentlich am Donner
 stag treffen sich aktive Seniorinnen und Senioren im Fuldataler Forum, um s
 ich mithilfe einer im Seniorensport erfahrenen Sportlehrerin für ihren Allt
 ag in Form zu bringen. So trainieren sie am Anfang zur Musik der 60er ihre 
 Orientierung, ihr Gedächtnis und Multitasking Fähigkeiten, indem nicht nur 
 rhythmisch gelaufen wird, sondern indem Zusatzaufgaben (Bälle zuwerfen, ein
 em Partner wie ein Schatten zu folgen, Übungen zu Zahlen erledigen o.ä.) zu
  bewältigen sind.					</p>
				
									<p class="item-readmore">
						<a
  class="mod-articles-category-title " href="/senioren-in-bewegung-neustart-
 nach-der-winterpause-am-15-januar">
															Weiterlesen &hellip;				
 									</a>
					</p>
							</div>

			</div>
		</div>
			<div class="bl
 og-item col-12">
			<div class="item-inner">
			<!-- Item image -->
						<
 !-- // Item image -->
			
			<div class="item-ct">

									<h3 class="ite
 m-title"><a class="mod-articles-category-title " href="/sicher-im-alter-inf
 ormiert-statt-hereingefallen">Sicher im Alter - informiert statt hereingefa
 llen</a></h3>
				
				<div class="item-meta">
					
					
									</div>

 
									<p class="item-introtext">
						Mit großem Interesse und spürbar
 er Aufmerksamkeit verfolgten zahlreiche Gäste am dritten Mittwoch im Novemb
 er eine offene Informationsveranstaltung unter dem Titel „Sicher im Alter –
  informiert statt hereingefallen“, zu der der Nachbarschaftsverein Fuldatal
  zusammen mit dem Seniorenbeirat der Gemeinde Fuldatal eingeladen haben. Zi
 el des Abends war es, ältere Menschen über aktuelle Betrugsmaschen aufzuklä
 ren und ihnen praktische Handlungsempfehlungen an die Hand zu geben. Die Re
 sonanz zeigte deutlich, wie wichtig das Thema für viele Seniorinnen und Sen
 ioren inzwischen geworden ist.  <em>Bild oben:</em>...					</p>
				
						
 			<p class="item-readmore">
						<a class="mod-articles-category-title " 
 href="/sicher-im-alter-informiert-statt-hereingefallen">
															Wei
 terlesen &hellip;													</a>
					</p>
							</div>

			</div>
		</d
 iv>
			<div class="blog-item col-12">
			<div class="item-inner">
			<!-- I
 tem image -->
						<!-- // Item image -->
			
			<div class="item-ct">

		
 							<h3 class="item-title"><a class="mod-articles-category-title " href=
 "/vorsorgevollmacht-patienten-und-betreuungsverfuegung">Vorsorgevollmacht, 
 Patienten- und Betreuungsverfügung</a></h3>
				
				<div class="item-meta"
 >
					
					
									</div>

									<p class="item-introtext">
						De
 r Seniorenbeirat der Gemeinde Fuldatal und der Nachbarschaftsverein Fuldata
 l hatten zu einer offenen Informationsveranstaltung über Vorsorgevollmacht,
  Patienten- und Betreuungsverfügung eingeladen.  Deren Vorsitzende Brigitte
  Ringeler-Leipholz und Michael Thöne (Bildmitte oben) freuten sich, rund 60
  Gäste im BeneVit Haus Sonnenhof in Fuldatal-Ihringshausen am dritten Mittw
 och im September begrüßen zu dürfen  Martina Homburg vom Betreuungsverein e
 . V. Hofgeismar (Bild oben) hat den Anwesenden durch ihre&nbsp;verständlich
 e und praxisnahe Darstellung nicht nur wichtige rechtliche Zusammenhänge...
 					</p>
				
									<p class="item-readmore">
						<a class="mod-artic
 les-category-title " href="/vorsorgevollmacht-patienten-und-betreuungsverfu
 egung">
															Weiterlesen &hellip;													</a>
					</p>
				
 			</div>

			</div>
		</div>
	</div></div>

X-ALT-DESC;FMTTYPE=text/html:<br /><br /><div class="moduletable ">
            <h3 >Wer weiß denn sowas
 ?</h3>        

<div class="custom"  >
	<iframe src="https://www.raetselstu
 nde.de/quizfrage-zufall.html" name="Zufalls-Quizfrage" width="100%" height=
 "200" frameborder="0" scrolling="no" align="middle"></iframe></div>
</div>

 <br /><div class="moduletable ">
            <h4 >Das könnte Sie ebenfalls 
 interessieren:</h4>        
<div class="magz-layout list-layout row">
			<d
 iv class="blog-item col-12">
			<div class="item-inner">
			<!-- Item image
  -->
						<!-- // Item image -->
			
			<div class="item-ct">

									<h
 3 class="item-title"><a class="mod-articles-category-title " href="https://
 www.nachbarschaftsverein-fuldatal.de/einladung-zur-mitgliederversammlung-am
 -29-04-2026">Einladung zur Mitgliederversammlung am 29.04.2026</a></h3>
			
 	
				<div class="item-meta">
					
					
									</div>

									<p clas
 s="item-introtext">
						Sehr geehrtes Mitglied,unsere diesjährige ordentl
 iche Mitgliederversammlung findet statt <strong>am Mittwoch, 29.04.2026 um 
 17.00 Uhr in Raum 300 (2. Stock links) des Rathauses,</strong>Am Rathaus 9 
 in Fuldatal-Ihringshausen,zu der hiermit herzlichst eingeladen wird.  Auf d
 er Tagesordnung stehen folgende Themen:  TOP 1: Eröffnung und Begrüßung  TO
 P 2:&nbsp; Gedenken an unsere verstorbenen Mitglieder  TOP 3:&nbsp; Bericht
 e: Des Vorsitzenden und der Kassiererin  TOP 4:&nbsp; Aussprache zu den Ber
 ichten  TOP 5:&nbsp; Bericht der Revisoren und Antrag auf Entlastung des Vo
 rstandes  TOP 6:&nbsp; Wahl einer Kassenprüferin oder eines Kassenprüfers  
 TOP 7:&nbsp;...					</p>
				
									<p class="item-readmore">
						<a c
 lass="mod-articles-category-title " href="https://www.nachbarschaftsverein-
 fuldatal.de/einladung-zur-mitgliederversammlung-am-29-04-2026">
											
 				Weiterlesen &hellip;													</a>
					</p>
							</div>

			</div
 >
		</div>
			<div class="blog-item col-12">
			<div class="item-inner">
		
 	<!-- Item image -->
						<!-- // Item image -->
			
			<div class="item-c
 t">

									<h3 class="item-title"><a class="mod-articles-category-title 
 " href="https://www.nachbarschaftsverein-fuldatal.de/ihr-android-smartphon-
 tablet-das-unbekannte-wesen">Ihr Android Smartphon /Tablet - das unbekannte
  Wesen</a></h3>
				
				<div class="item-meta">
					
					
									</div
 >

									<p class="item-introtext">
						Haben Sie kürzlich ein neues S
 martphone/-Tablet erworben oder beabsichtigen Sie, sich diese neue Technik 
 zuzulegen?  Und……………..  -&nbsp;sind noch unsicher mit der Bedienung,  -&nbs
 p;oder möchten noch weitere Funktionen kennenlernen,&nbsp;wie z.B. Ersteinr
 ichtung,&nbsp;Installation von Apps,&nbsp;Nutzung der Kamera,&nbsp;Versende
 n von Textnachrichten.    &nbsp;Dann bieten wir Ihnen unsere Unterstützung 
 an.&nbsp;  <strong>Der nächste Workshop begann am&nbsp;25.03.2026&nbsp;von&
 nbsp;10.30&nbsp;Uhr – 11.30&nbsp;Uhr&nbsp;und findet&nbsp;jede Woche&nbsp;s
 tatt, insgesamt&nbsp;ca.6 x,&nbsp;maximal 10 Personen,&nbsp;im Rathaus&nbsp
 ;2.Stock Zimmer&nbsp;301&nbsp;statt.&nbsp;</strong>  Um Voranmeldung wird g
 ebeten.  Weitere Informationen erhalten...					</p>
				
									<p class=
 "item-readmore">
						<a class="mod-articles-category-title " href="https:
 //www.nachbarschaftsverein-fuldatal.de/ihr-android-smartphon-tablet-das-unb
 ekannte-wesen">
															Weiterlesen &hellip;													</a>
					<
 /p>
							</div>

			</div>
		</div>
			<div class="blog-item col-12">
			
 <div class="item-inner">
			<!-- Item image -->
						<!-- // Item image --
 >
			
			<div class="item-ct">

									<h3 class="item-title"><a class="m
 od-articles-category-title " href="https://www.nachbarschaftsverein-fuldata
 l.de/kulissenschieber-fuldatal-boten-guns-n-nuns">Kulissenschieber Fuldatal
  boten „Guns ‚n‘ Nuns“</a></h3>
				
				<div class="item-meta">
					
				
 	
									</div>

									<p class="item-introtext">
						Im gut gefüllt
 en FuldaTalerForum in Fuldatal-Ihringshausen wurde am Nachmittag des Frühli
 ngsanfangs (21. März) Theaterfreunden ein ebenso unterhaltsames wie gelunge
 nes Erlebnis geboten: Das Ensemble der Kulissenschieber präsentierte die sp
 ritzige Kriminalkomödie „Guns ’n’ Nuns“ – und traf damit genau ins Schwarze
 . Der Eintritt war frei, doch die zahlreichen Besucherinnen und Besucher ze
 igten sich überaus spendabel. Die gesammelten Spenden kommen dem Nachbarsch
 aftsverein Fuldatal zugute, der gemeinsam mit den Kulissenschiebern zu dies
 em besonderen Theaternachmittag eingeladen hatte.  Bereits beim...					</p>
 
				
									<p class="item-readmore">
						<a class="mod-articles-categ
 ory-title " href="https://www.nachbarschaftsverein-fuldatal.de/kulissenschi
 eber-fuldatal-boten-guns-n-nuns">
															Weiterlesen &hellip;						
 							</a>
					</p>
							</div>

			</div>
		</div>
			<div class="blog
 -item col-12">
			<div class="item-inner">
			<!-- Item image -->
						<!-
 - // Item image -->
			
			<div class="item-ct">

									<h3 class="item-
 title"><a class="mod-articles-category-title " href="https://www.nachbarsch
 aftsverein-fuldatal.de/gesunde-ernaehrung-im-alter-was-tut-mir-gut">Gesunde
  Ernährung im Alter - was tut mir gut?</a></h3>
				
				<div class="item-m
 eta">
					
					
									</div>

									<p class="item-introtext">
				
 		Auf große Resonanz stieß die offene Informationsveranstaltung zum Thema „
 Gesunde Ernährung im Alter – was tut mir gut?“, zu der der Seniorenbeirat s
 owie der Nachbarschaftsverein Fuldatal Mitte März eingeladen hatten. Intere
 ssierte Bürgerinnen und Bürger, darunter auch Fuldatals Bürgermeister Tore 
 Florin, nutzten die Gelegenheit, sich umfassend zu informieren und miteinan
 der ins Gespräch zu kommen.    <em>Referentin Brigitte Ringeler-Leipholz in
  Aktion</em>  Den Schwerpunkt der Veranstaltung bildete das Thema „Fette“ a
 ls wichtiger Bestandteil einer ausgewogenen und abwechslungsreichen Ernähru
 ng. Die...					</p>
				
									<p class="item-readmore">
						<a class=
 "mod-articles-category-title " href="https://www.nachbarschaftsverein-fulda
 tal.de/gesunde-ernaehrung-im-alter-was-tut-mir-gut">
															Weiterl
 esen &hellip;													</a>
					</p>
							</div>

			</div>
		</div>

 			<div class="blog-item col-12">
			<div class="item-inner">
			<!-- Item 
 image -->
						<!-- // Item image -->
			
			<div class="item-ct">

						
 			<h3 class="item-title"><a class="mod-articles-category-title " href="htt
 ps://www.nachbarschaftsverein-fuldatal.de/seelisches-wohlergehen-im-alter">
 Seelisches Wohlergehen im Alter: Informationsveranstaltung in Fuldatal stie
 ß auf großes Interesse</a></h3>
				
				<div class="item-meta">
					
				
 	
									</div>

									<p class="item-introtext">
						Auf Einladung 
 des Seniorenbeirats und des Nachbarschaftsvereins Fuldatal hatten interessi
 erte Bürgerinnen und Bürger in der vorletzten Januarwoche die Gelegenheit, 
 sich intensiv mit einem Thema auseinanderzusetzen, das viele Menschen beweg
 t: dem seelischen Wohlergehen im Alter. Die gut besuchte Informationsverans
 taltung bot wertvolle Impulse, praxisnahe Anregungen und Raum für Austausch
  in angenehmer Atmosphäre.  Als Referentin konnte die Psychologin und Thera
 peutin&nbsp;Cordula Schmidt&nbsp;gewonnen werden, die den Teilnehmenden auf
  verständliche und zugleich fundierte Weise wissenschaftlich belegte,...			
 		</p>
				
									<p class="item-readmore">
						<a class="mod-articles
 -category-title " href="https://www.nachbarschaftsverein-fuldatal.de/seelis
 ches-wohlergehen-im-alter">
															Weiterlesen &hellip;												
 	</a>
					</p>
							</div>

			</div>
		</div>
			<div class="blog-item 
 col-12">
			<div class="item-inner">
			<!-- Item image -->
						<!-- // I
 tem image -->
			
			<div class="item-ct">

									<h3 class="item-title"
 ><a class="mod-articles-category-title " href="https://www.nachbarschaftsve
 rein-fuldatal.de/neujahrskonzert-2026-der-musikschule-chroma">Neujahrskonze
 rt 2026 der Musikschule Chroma</a></h3>
				
				<div class="item-meta">
		
 			
					
									</div>

									<p class="item-introtext">
						Natürl
 ich war der Nachbarschaftsverein Fuldatal beim traditionellen Neujahrskonze
 rt der Musikschule Chroma in der Mehrzweckhalle in Vellmar-Frommershausen w
 ieder mit von der Partie. Die Louis Spohr-Sinfonietta unter der Leitung von
  Lore Schrettner begeisterte die zahlreichen Gäste auf ein Neues mit virtuo
 s dargebotenen Stücken, voller temperamentvoller Hingabe, aber auch gefühlv
 oll und besinnlich.  <em>Die Louis Spohr-Sinfonietta unter der Leitung von 
 Lore Schrettner (Bildmitte)</em> Das breit gefächerte Repertoire umfasste d
 ieses Mal unter anderem Stücke von Robert Stolz, wie den UNO-Marsch &nbsp;s
 owie –...					</p>
				
									<p class="item-readmore">
						<a class="
 mod-articles-category-title " href="https://www.nachbarschaftsverein-fuldat
 al.de/neujahrskonzert-2026-der-musikschule-chroma">
															Weiterle
 sen &hellip;													</a>
					</p>
							</div>

			</div>
		</div>
	
 		<div class="blog-item col-12">
			<div class="item-inner">
			<!-- Item i
 mage -->
						<!-- // Item image -->
			
			<div class="item-ct">

							
 		<h3 class="item-title"><a class="mod-articles-category-title " href="http
 s://www.nachbarschaftsverein-fuldatal.de/senioren-in-bewegung-neustart-nach
 -der-winterpause-am-15-januar">Senioren in Bewegung - nach der Winterpause 
 am 15. Januar neu gestartet</a></h3>
				
				<div class="item-meta">
					
 
					
									</div>

									<p class="item-introtext">
						Der Nachb
 arschaftsverein bringt „Senioren in Bewegung“ – Training für eine sichere M
 obilität im Alltag Einmal wöchentlich am Donnerstag treffen sich aktive Sen
 iorinnen und Senioren im Fuldataler Forum, um sich mithilfe einer im Senior
 ensport erfahrenen Sportlehrerin für ihren Alltag in Form zu bringen. So tr
 ainieren sie am Anfang zur Musik der 60er ihre Orientierung, ihr Gedächtnis
  und Multitasking Fähigkeiten, indem nicht nur rhythmisch gelaufen wird, so
 ndern indem Zusatzaufgaben (Bälle zuwerfen, einem Partner wie ein Schatten 
 zu folgen, Übungen zu Zahlen erledigen o.ä.) zu bewältigen sind.					</p>
	
 			
									<p class="item-readmore">
						<a class="mod-articles-categor
 y-title " href="https://www.nachbarschaftsverein-fuldatal.de/senioren-in-be
 wegung-neustart-nach-der-winterpause-am-15-januar">
															Weiterle
 sen &hellip;													</a>
					</p>
							</div>

			</div>
		</div>
	
 		<div class="blog-item col-12">
			<div class="item-inner">
			<!-- Item i
 mage -->
						<!-- // Item image -->
			
			<div class="item-ct">

							
 		<h3 class="item-title"><a class="mod-articles-category-title " href="http
 s://www.nachbarschaftsverein-fuldatal.de/sicher-im-alter-informiert-statt-h
 ereingefallen">Sicher im Alter - informiert statt hereingefallen</a></h3>
	
 			
				<div class="item-meta">
					
					
									</div>

									<p cl
 ass="item-introtext">
						Mit großem Interesse und spürbarer Aufmerksamke
 it verfolgten zahlreiche Gäste am dritten Mittwoch im November eine offene 
 Informationsveranstaltung unter dem Titel „Sicher im Alter – informiert sta
 tt hereingefallen“, zu der der Nachbarschaftsverein Fuldatal zusammen mit d
 em Seniorenbeirat der Gemeinde Fuldatal eingeladen haben. Ziel des Abends w
 ar es, ältere Menschen über aktuelle Betrugsmaschen aufzuklären und ihnen p
 raktische Handlungsempfehlungen an die Hand zu geben. Die Resonanz zeigte d
 eutlich, wie wichtig das Thema für viele Seniorinnen und Senioren inzwische
 n geworden ist.  <em>Bild oben:</em>...					</p>
				
									<p class="it
 em-readmore">
						<a class="mod-articles-category-title " href="https://w
 ww.nachbarschaftsverein-fuldatal.de/sicher-im-alter-informiert-statt-herein
 gefallen">
															Weiterlesen &hellip;													</a>
					</p>
	
 						</div>

			</div>
		</div>
			<div class="blog-item col-12">
			<div 
 class="item-inner">
			<!-- Item image -->
						<!-- // Item image -->
			
 
			<div class="item-ct">

									<h3 class="item-title"><a class="mod-ar
 ticles-category-title " href="https://www.nachbarschaftsverein-fuldatal.de/
 vorsorgevollmacht-patienten-und-betreuungsverfuegung">Vorsorgevollmacht, Pa
 tienten- und Betreuungsverfügung</a></h3>
				
				<div class="item-meta">

 					
					
									</div>

									<p class="item-introtext">
						Der 
 Seniorenbeirat der Gemeinde Fuldatal und der Nachbarschaftsverein Fuldatal 
 hatten zu einer offenen Informationsveranstaltung über Vorsorgevollmacht, P
 atienten- und Betreuungsverfügung eingeladen.  Deren Vorsitzende Brigitte R
 ingeler-Leipholz und Michael Thöne (Bildmitte oben) freuten sich, rund 60 G
 äste im BeneVit Haus Sonnenhof in Fuldatal-Ihringshausen am dritten Mittwoc
 h im September begrüßen zu dürfen  Martina Homburg vom Betreuungsverein e. 
 V. Hofgeismar (Bild oben) hat den Anwesenden durch ihre&nbsp;verständliche 
 und praxisnahe Darstellung nicht nur wichtige rechtliche Zusammenhänge...		
 			</p>
				
									<p class="item-readmore">
						<a class="mod-article
 s-category-title " href="https://www.nachbarschaftsverein-fuldatal.de/vorso
 rgevollmacht-patienten-und-betreuungsverfuegung">
															Weiterlese
 n &hellip;													</a>
					</p>
							</div>

			</div>
		</div>
	</
 div></div>

DTSTAMP:20260419T124022
DTSTART;TZID=Europe/Berlin:20251217T100000
DTEND;TZID=Europe/Berlin:20251217T113000
SEQUENCE:0
TRANSP:OPAQUE
END:VEVENT
END:VCALENDAR