BEGIN:VCALENDAR
VERSION:2.0
PRODID:-//jEvents 2.0 for Joomla//EN
CALSCALE:GREGORIAN
METHOD:PUBLISH
BEGIN:VTIMEZONE
TZID:Europe/Berlin
BEGIN:STANDARD
DTSTART:20251026T020000
RDATE:20260329T030000
TZOFFSETFROM:+0200
TZOFFSETTO:+0100
TZNAME:Europe/Berlin CET
END:STANDARD
BEGIN:STANDARD
DTSTART:20261025T020000
RDATE:20270328T030000
TZOFFSETFROM:+0200
TZOFFSETTO:+0100
TZNAME:Europe/Berlin CET
END:STANDARD
BEGIN:STANDARD
DTSTART:20271031T020000
RDATE:20280326T030000
TZOFFSETFROM:+0200
TZOFFSETTO:+0100
TZNAME:Europe/Berlin CET
END:STANDARD
BEGIN:STANDARD
DTSTART:20281029T020000
RDATE:20290325T030000
TZOFFSETFROM:+0200
TZOFFSETTO:+0100
TZNAME:Europe/Berlin CET
END:STANDARD
BEGIN:STANDARD
DTSTART:20291028T020000
RDATE:20300331T030000
TZOFFSETFROM:+0200
TZOFFSETTO:+0100
TZNAME:Europe/Berlin CET
END:STANDARD
BEGIN:STANDARD
DTSTART:20301027T020000
RDATE:20310330T030000
TZOFFSETFROM:+0200
TZOFFSETTO:+0100
TZNAME:Europe/Berlin CET
END:STANDARD
BEGIN:STANDARD
DTSTART:20311026T020000
RDATE:20320328T030000
TZOFFSETFROM:+0200
TZOFFSETTO:+0100
TZNAME:Europe/Berlin CET
END:STANDARD
BEGIN:DAYLIGHT
DTSTART:20250915T150000
RDATE:20251026T020000
TZOFFSETFROM:+0100
TZOFFSETTO:+0200
TZNAME:Europe/Berlin CEST
END:DAYLIGHT
BEGIN:DAYLIGHT
DTSTART:20260329T030000
RDATE:20261025T020000
TZOFFSETFROM:+0100
TZOFFSETTO:+0200
TZNAME:Europe/Berlin CEST
END:DAYLIGHT
BEGIN:DAYLIGHT
DTSTART:20270328T030000
RDATE:20271031T020000
TZOFFSETFROM:+0100
TZOFFSETTO:+0200
TZNAME:Europe/Berlin CEST
END:DAYLIGHT
BEGIN:DAYLIGHT
DTSTART:20280326T030000
RDATE:20281029T020000
TZOFFSETFROM:+0100
TZOFFSETTO:+0200
TZNAME:Europe/Berlin CEST
END:DAYLIGHT
BEGIN:DAYLIGHT
DTSTART:20290325T030000
RDATE:20291028T020000
TZOFFSETFROM:+0100
TZOFFSETTO:+0200
TZNAME:Europe/Berlin CEST
END:DAYLIGHT
BEGIN:DAYLIGHT
DTSTART:20300331T030000
RDATE:20301027T020000
TZOFFSETFROM:+0100
TZOFFSETTO:+0200
TZNAME:Europe/Berlin CEST
END:DAYLIGHT
BEGIN:DAYLIGHT
DTSTART:20310330T030000
RDATE:20311026T020000
TZOFFSETFROM:+0100
TZOFFSETTO:+0200
TZNAME:Europe/Berlin CEST
END:DAYLIGHT
END:VTIMEZONE
BEGIN:VEVENT
UID:4e970fcf63c56b24c20cc5cf8bac7fd7
CATEGORIES:Veranstaltungen
CREATED:20260302T114034
SUMMARY:Informationsveranstaltung im September
DESCRIPTION:Der Nachbarschaftsverein Fuldatal e. V. und der Seniorenbeirat der Gemeinde
  Fuldatal \nladen ein zu einer offenen Informationsveranstaltung zum Thema:
 \nwird noch bekanntgegeben\nWann:  Mittwoch, 16. September 2026, 15.00 Uhr\
 nWo: BeneVit Haus Sonnenhof, Bruchstraße 4, Fuldatal-Ihringshausen \n(das n
 ächste Gebäude rechts neben dem Rathaus, 3. Etage rechts, Fahrstuhl vorhand
 en)\nReferent/in: wird noch bekanntgegeben\nDer Nachbarschaftsverein bietet
   auf Wunsch einen Fahrdienst an.\nWegen der organisatorischen Vorbereitung
 en wird um Voranmeldung unter 0561/9818-1103 oder - 1071 gebeten, alternati
 v ist auch eine Anmeldung per eMail an Diese E-Mail-Adresse ist vor Spambot
 s geschützt! Zur Anzeige muss JavaScript eingeschaltet sein.\nmöglich.\n
  
           Wer weiß denn sowas?        


	

\n
            Das könnte Sie e
 benfalls interessieren:        

			
			
			
						
			
			

									Einla
 dung zur Mitgliederversammlung am 29.04.2026 (/einladung-zur-mitgliedervers
 ammlung-am-29-04-2026)
				
				
					
					
									

									
						Seh
 r geehrtes Mitglied,unsere diesjährige ordentliche Mitgliederversammlung fi
 ndet statt am Mittwoch, 29.04.2026 um 17.00 Uhr in Raum 300 (2. Stock links
 ) des Rathauses,Am Rathaus 9 in Fuldatal-Ihringshausen,zu der hiermit herzl
 ichst eingeladen wird.  Auf der Tagesordnung stehen folgende Themen:  TOP 1
 : Eröffnung und Begrüßung  TOP 2:  Gedenken an unsere verstorbenen Mitglied
 er  TOP 3:  Berichte: Des Vorsitzenden und der Kassiererin  TOP 4:  Ausspra
 che zu den Berichten  TOP 5:  Bericht der Revisoren und Antrag auf Entlastu
 ng des Vorstandes  TOP 6:  Wahl einer Kassenprüferin oder eines Kassenprüfe
 rs  TOP 7: ...					\n
				
									
						
															Weiterlesen …			
 										 (/einladung-zur-mitgliederversammlung-am-29-04-2026)
					\n
			
 				

			
		
			
			
			
						
			
			

									Ihr Android Smartphon /Ta
 blet - das unbekannte Wesen (/ihr-android-smartphon-tablet-das-unbekannte-w
 esen)
				
				
					
					
									

									
						Haben Sie kürzlich e
 in neues Smartphone/-Tablet erworben oder beabsichtigen Sie, sich diese neu
 e Technik zuzulegen?  Und……………..  - sind noch unsicher mit der Bedienung,  
 - oder möchten noch weitere Funktionen kennenlernen, wie z.B. Ersteinrichtu
 ng, Installation von Apps, Nutzung der Kamera, Versenden von Textnachrichte
 n.     Dann bieten wir Ihnen unsere Unterstützung an.   Der nächste Worksho
 p begann am 25.03.2026 von 10.30 Uhr – 11.30 Uhr und findet jede Woche stat
 t, insgesamt ca.6 x, maximal 10 Personen, im Rathaus 2.Stock Zimmer 301 sta
 tt.   Um Voranmeldung wird gebeten.  Weitere Informationen erhalten...					
 \n
				
									
						
															Weiterlesen …													 (/ihr-an
 droid-smartphon-tablet-das-unbekannte-wesen)
					\n
							

			
		
			
		
 	
			
						
			
			

									Kulissenschieber Fuldatal boten „Guns ‚n‘ Nu
 ns“ (/kulissenschieber-fuldatal-boten-guns-n-nuns)
				
				
					
					
		
 							

									
						Im gut gefüllten FuldaTalerForum in Fuldatal-Ihrin
 gshausen wurde am Nachmittag des Frühlingsanfangs (21. März) Theaterfreunde
 n ein ebenso unterhaltsames wie gelungenes Erlebnis geboten: Das Ensemble d
 er Kulissenschieber präsentierte die spritzige Kriminalkomödie „Guns ’n’ Nu
 ns“ – und traf damit genau ins Schwarze. Der Eintritt war frei, doch die za
 hlreichen Besucherinnen und Besucher zeigten sich überaus spendabel. Die ge
 sammelten Spenden kommen dem Nachbarschaftsverein Fuldatal zugute, der geme
 insam mit den Kulissenschiebern zu diesem besonderen Theaternachmittag eing
 eladen hatte.  Bereits beim...					\n
				
									
						
															
 Weiterlesen …													 (/kulissenschieber-fuldatal-boten-guns-n-nuns)
	
 				\n
							

			
		
			
			
			
						
			
			

									Gesunde Ernähru
 ng im Alter - was tut mir gut? (/gesunde-ernaehrung-im-alter-was-tut-mir-gu
 t)
				
				
					
					
									

									
						Auf große Resonanz stie
 ß die offene Informationsveranstaltung zum Thema „Gesunde Ernährung im Alte
 r – was tut mir gut?“, zu der der Seniorenbeirat sowie der Nachbarschaftsve
 rein Fuldatal Mitte März eingeladen hatten. Interessierte Bürgerinnen und B
 ürger, darunter auch Fuldatals Bürgermeister Tore Florin, nutzten die Geleg
 enheit, sich umfassend zu informieren und miteinander ins Gespräch zu komme
 n.    Referentin Brigitte Ringeler-Leipholz in Aktion  Den Schwerpunkt der 
 Veranstaltung bildete das Thema „Fette“ als wichtiger Bestandteil einer aus
 gewogenen und abwechslungsreichen Ernährung. Die...					\n
				
									
	
 					
															Weiterlesen …													 (/gesunde-ernaehrung-im-alt
 er-was-tut-mir-gut)
					\n
							

			
		
			
			
			
						
			
			

			
 						Seelisches Wohlergehen im Alter: Informationsveranstaltung in Fuldata
 l stieß auf großes Interesse (/seelisches-wohlergehen-im-alter)
				
				
	
 				
					
									

									
						Auf Einladung des Seniorenbeirats und
  des Nachbarschaftsvereins Fuldatal hatten interessierte Bürgerinnen und Bü
 rger in der vorletzten Januarwoche die Gelegenheit, sich intensiv mit einem
  Thema auseinanderzusetzen, das viele Menschen bewegt: dem seelischen Wohle
 rgehen im Alter. Die gut besuchte Informationsveranstaltung bot wertvolle I
 mpulse, praxisnahe Anregungen und Raum für Austausch in angenehmer Atmosphä
 re.  Als Referentin konnte die Psychologin und Therapeutin Cordula Schmidt 
 gewonnen werden, die den Teilnehmenden auf verständliche und zugleich fundi
 erte Weise wissenschaftlich belegte,...					\n
				
									
						
						
 									Weiterlesen …													 (/seelisches-wohlergehen-im-alter)
				
 	\n
							

			
		
			
			
			
						
			
			

									Neujahrskonzert 20
 26 der Musikschule Chroma (/neujahrskonzert-2026-der-musikschule-chroma)
		
 		
				
					
					
									

									
						Natürlich war der Nachbarsch
 aftsverein Fuldatal beim traditionellen Neujahrskonzert der Musikschule Chr
 oma in der Mehrzweckhalle in Vellmar-Frommershausen wieder mit von der Part
 ie. Die Louis Spohr-Sinfonietta unter der Leitung von Lore Schrettner begei
 sterte die zahlreichen Gäste auf ein Neues mit virtuos dargebotenen Stücken
 , voller temperamentvoller Hingabe, aber auch gefühlvoll und besinnlich.  D
 ie Louis Spohr-Sinfonietta unter der Leitung von Lore Schrettner (Bildmitte
 ) Das breit gefächerte Repertoire umfasste dieses Mal unter anderem Stücke 
 von Robert Stolz, wie den UNO-Marsch  sowie –...					\n
				
									
				
 		
															Weiterlesen …													 (/neujahrskonzert-2026-der-mus
 ikschule-chroma)
					\n
							

			
		
			
			
			
						
			
			

						
 			Senioren in Bewegung - nach der Winterpause am 15. Januar neu gestartet

 				
				
					
					
									

									
						Der Nachbarschaftsverein b
 ringt „Senioren in Bewegung“ – Training für eine sichere Mobilität im Allta
 g Einmal wöchentlich am Donnerstag treffen sich aktive Seniorinnen und Seni
 oren im Fuldataler Forum, um sich mithilfe einer im Seniorensport erfahrene
 n Sportlehrerin für ihren Alltag in Form zu bringen. So trainieren sie am A
 nfang zur Musik der 60er ihre Orientierung, ihr Gedächtnis und Multitasking
  Fähigkeiten, indem nicht nur rhythmisch gelaufen wird, sondern indem Zusat
 zaufgaben (Bälle zuwerfen, einem Partner wie ein Schatten zu folgen, Übunge
 n zu Zahlen erledigen o.ä.) zu bewältigen sind.					\n
				
									
					
 	
															Weiterlesen …													 (/senioren-in-bewegung-neustart
 -nach-der-winterpause-am-15-januar)
					\n
							

			
		
			
			
			
			
 			
			
			

									Sicher im Alter - informiert statt hereingefallen (/s
 icher-im-alter-informiert-statt-hereingefallen)
				
				
					
					
					
 				

									
						Mit großem Interesse und spürbarer Aufmerksamkeit ver
 folgten zahlreiche Gäste am dritten Mittwoch im November eine offene Inform
 ationsveranstaltung unter dem Titel „Sicher im Alter – informiert statt her
 eingefallen“, zu der der Nachbarschaftsverein Fuldatal zusammen mit dem Sen
 iorenbeirat der Gemeinde Fuldatal eingeladen haben. Ziel des Abends war es,
  ältere Menschen über aktuelle Betrugsmaschen aufzuklären und ihnen praktis
 che Handlungsempfehlungen an die Hand zu geben. Die Resonanz zeigte deutlic
 h, wie wichtig das Thema für viele Seniorinnen und Senioren inzwischen gewo
 rden ist.  Bild oben:...					\n
				
									
						
															Weiter
 lesen …													 (/sicher-im-alter-informiert-statt-hereingefallen)
			
 		\n
							

			
		
			
			
			
						
			
			

									Vorsorgevollmacht
 , Patienten- und Betreuungsverfügung (/vorsorgevollmacht-patienten-und-betr
 euungsverfuegung)
				
				
					
					
									

									
						Der Seni
 orenbeirat der Gemeinde Fuldatal und der Nachbarschaftsverein Fuldatal hatt
 en zu einer offenen Informationsveranstaltung über Vorsorgevollmacht, Patie
 nten- und Betreuungsverfügung eingeladen.  Deren Vorsitzende Brigitte Ringe
 ler-Leipholz und Michael Thöne (Bildmitte oben) freuten sich, rund 60 Gäste
  im BeneVit Haus Sonnenhof in Fuldatal-Ihringshausen am dritten Mittwoch im
  September begrüßen zu dürfen  Martina Homburg vom Betreuungsverein e. V. H
 ofgeismar (Bild oben) hat den Anwesenden durch ihre verständliche und praxi
 snahe Darstellung nicht nur wichtige rechtliche Zusammenhänge...					\n
			
 	
									
						
															Weiterlesen …													 (/vorsorgevoll
 macht-patienten-und-betreuungsverfuegung)
					\n
							

			
		
	
\n
X-ALT-DESC;FMTTYPE=text/html:<p>Der Nachbarschaftsverein Fuldatal e. V. und der Seniorenbeirat der Gemei
 nde Fuldatal <br />laden ein zu einer offenen Informationsveranstaltung zum
  <strong>Thema</strong>:</p><p style="text-align: center;"><strong>wird noc
 h bekanntgegeben</strong></p><p style="text-align: center;">Wann:<strong>&n
 bsp; Mittwoch, 16. September 2026, 15.00 Uhr</strong></p><p style="text-ali
 gn: center;">Wo:<strong> BeneVit Haus Sonnenhof, Bruchstraße 4, Fuldatal-Ih
 ringshausen <br /></strong>(das nächste Gebäude rechts neben dem Rathaus, 3
 . Etage rechts, Fahrstuhl vorhanden)</p><p style="text-align: center;"><str
 ong>Referent/in: wird noch bekanntgegeben</strong></p><p style="text-align:
  justify;">Der Nachbarschaftsverein bietet&nbsp; auf Wunsch einen Fahrdiens
 t an.</p><p style="text-align: justify;">Wegen der organisatorischen Vorber
 eitungen wird um Voranmeldung unter <a href="https://www.nachbarschaftsvere
 in-fuldatal.de/tel:0561/9818-1103">0561/9818-1103</a> oder - 1071 gebeten, 
 alternativ ist auch eine Anmeldung per eMail an <em><joomla-hidden-mail  is
 -link="1" is-email="1" first="aW5mbw==" last="bmFjaGJhcnNjaGFmdHN2ZXJlaW4tZ
 nVsZGF0YWwuZGU=" text="aW5mb0BuYWNoYmFyc2NoYWZ0c3ZlcmVpbi1mdWxkYXRhbC5kZQ==
 " base="" >Diese E-Mail-Adresse ist vor Spambots geschützt! Zur Anzeige mus
 s JavaScript eingeschaltet sein.</joomla-hidden-mail></em><br />möglich.</p
 ><hr id="system-readmore" /><p style="text-align: justify;"><div class="mod
 uletable ">
            <h3 >Wer weiß denn sowas?</h3>        

<div class=
 "custom"  >
	<iframe src="https://www.raetselstunde.de/quizfrage-zufall.htm
 l" name="Zufalls-Quizfrage" width="100%" height="200" frameborder="0" scrol
 ling="no" align="middle"></iframe></div>
</div>
</p><p style="text-align: j
 ustify;"><div class="moduletable ">
            <h4 >Das könnte Sie ebenfal
 ls interessieren:</h4>        
<div class="magz-layout list-layout row">
		
 	<div class="blog-item col-12">
			<div class="item-inner">
			<!-- Item im
 age -->
						<!-- // Item image -->
			
			<div class="item-ct">

								
 	<h3 class="item-title"><a class="mod-articles-category-title " href="https
 ://www.nachbarschaftsverein-fuldatal.de/einladung-zur-mitgliederversammlung
 -am-29-04-2026">Einladung zur Mitgliederversammlung am 29.04.2026</a></h3>

 				
				<div class="item-meta">
					
					
									</div>

									<p c
 lass="item-introtext">
						Sehr geehrtes Mitglied,unsere diesjährige orde
 ntliche Mitgliederversammlung findet statt <strong>am Mittwoch, 29.04.2026 
 um 17.00 Uhr in Raum 300 (2. Stock links) des Rathauses,</strong>Am Rathaus
  9 in Fuldatal-Ihringshausen,zu der hiermit herzlichst eingeladen wird.  Au
 f der Tagesordnung stehen folgende Themen:  TOP 1: Eröffnung und Begrüßung 
  TOP 2:&nbsp; Gedenken an unsere verstorbenen Mitglieder  TOP 3:&nbsp; Beri
 chte: Des Vorsitzenden und der Kassiererin  TOP 4:&nbsp; Aussprache zu den 
 Berichten  TOP 5:&nbsp; Bericht der Revisoren und Antrag auf Entlastung des
  Vorstandes  TOP 6:&nbsp; Wahl einer Kassenprüferin oder eines Kassenprüfer
 s  TOP 7:&nbsp;...					</p>
				
									<p class="item-readmore">
						<
 a class="mod-articles-category-title " href="https://www.nachbarschaftsvere
 in-fuldatal.de/einladung-zur-mitgliederversammlung-am-29-04-2026">
								
 							Weiterlesen &hellip;													</a>
					</p>
							</div>

			</
 div>
		</div>
			<div class="blog-item col-12">
			<div class="item-inner">
 
			<!-- Item image -->
						<!-- // Item image -->
			
			<div class="ite
 m-ct">

									<h3 class="item-title"><a class="mod-articles-category-tit
 le " href="https://www.nachbarschaftsverein-fuldatal.de/ihr-android-smartph
 on-tablet-das-unbekannte-wesen">Ihr Android Smartphon /Tablet - das unbekan
 nte Wesen</a></h3>
				
				<div class="item-meta">
					
					
									</
 div>

									<p class="item-introtext">
						Haben Sie kürzlich ein neue
 s Smartphone/-Tablet erworben oder beabsichtigen Sie, sich diese neue Techn
 ik zuzulegen?  Und……………..  -&nbsp;sind noch unsicher mit der Bedienung,  -&
 nbsp;oder möchten noch weitere Funktionen kennenlernen,&nbsp;wie z.B. Erste
 inrichtung,&nbsp;Installation von Apps,&nbsp;Nutzung der Kamera,&nbsp;Verse
 nden von Textnachrichten.    &nbsp;Dann bieten wir Ihnen unsere Unterstützu
 ng an.&nbsp;  <strong>Der nächste Workshop begann am&nbsp;25.03.2026&nbsp;v
 on&nbsp;10.30&nbsp;Uhr – 11.30&nbsp;Uhr&nbsp;und findet&nbsp;jede Woche&nbs
 p;statt, insgesamt&nbsp;ca.6 x,&nbsp;maximal 10 Personen,&nbsp;im Rathaus&n
 bsp;2.Stock Zimmer&nbsp;301&nbsp;statt.&nbsp;</strong>  Um Voranmeldung wir
 d gebeten.  Weitere Informationen erhalten...					</p>
				
									<p cla
 ss="item-readmore">
						<a class="mod-articles-category-title " href="htt
 ps://www.nachbarschaftsverein-fuldatal.de/ihr-android-smartphon-tablet-das-
 unbekannte-wesen">
															Weiterlesen &hellip;													</a>
			
 		</p>
							</div>

			</div>
		</div>
			<div class="blog-item col-12">

 			<div class="item-inner">
			<!-- Item image -->
						<!-- // Item image
  -->
			
			<div class="item-ct">

									<h3 class="item-title"><a class
 ="mod-articles-category-title " href="https://www.nachbarschaftsverein-fuld
 atal.de/kulissenschieber-fuldatal-boten-guns-n-nuns">Kulissenschieber Fulda
 tal boten „Guns ‚n‘ Nuns“</a></h3>
				
				<div class="item-meta">
					
	
 				
									</div>

									<p class="item-introtext">
						Im gut gefü
 llten FuldaTalerForum in Fuldatal-Ihringshausen wurde am Nachmittag des Frü
 hlingsanfangs (21. März) Theaterfreunden ein ebenso unterhaltsames wie gelu
 ngenes Erlebnis geboten: Das Ensemble der Kulissenschieber präsentierte die
  spritzige Kriminalkomödie „Guns ’n’ Nuns“ – und traf damit genau ins Schwa
 rze. Der Eintritt war frei, doch die zahlreichen Besucherinnen und Besucher
  zeigten sich überaus spendabel. Die gesammelten Spenden kommen dem Nachbar
 schaftsverein Fuldatal zugute, der gemeinsam mit den Kulissenschiebern zu d
 iesem besonderen Theaternachmittag eingeladen hatte.  Bereits beim...					<
 /p>
				
									<p class="item-readmore">
						<a class="mod-articles-ca
 tegory-title " href="https://www.nachbarschaftsverein-fuldatal.de/kulissens
 chieber-fuldatal-boten-guns-n-nuns">
															Weiterlesen &hellip;			
 										</a>
					</p>
							</div>

			</div>
		</div>
			<div class="b
 log-item col-12">
			<div class="item-inner">
			<!-- Item image -->
						
 <!-- // Item image -->
			
			<div class="item-ct">

									<h3 class="it
 em-title"><a class="mod-articles-category-title " href="https://www.nachbar
 schaftsverein-fuldatal.de/gesunde-ernaehrung-im-alter-was-tut-mir-gut">Gesu
 nde Ernährung im Alter - was tut mir gut?</a></h3>
				
				<div class="ite
 m-meta">
					
					
									</div>

									<p class="item-introtext">
	
 					Auf große Resonanz stieß die offene Informationsveranstaltung zum Them
 a „Gesunde Ernährung im Alter – was tut mir gut?“, zu der der Seniorenbeira
 t sowie der Nachbarschaftsverein Fuldatal Mitte März eingeladen hatten. Int
 eressierte Bürgerinnen und Bürger, darunter auch Fuldatals Bürgermeister To
 re Florin, nutzten die Gelegenheit, sich umfassend zu informieren und mitei
 nander ins Gespräch zu kommen.    <em>Referentin Brigitte Ringeler-Leipholz
  in Aktion</em>  Den Schwerpunkt der Veranstaltung bildete das Thema „Fette
 “ als wichtiger Bestandteil einer ausgewogenen und abwechslungsreichen Ernä
 hrung. Die...					</p>
				
									<p class="item-readmore">
						<a cla
 ss="mod-articles-category-title " href="https://www.nachbarschaftsverein-fu
 ldatal.de/gesunde-ernaehrung-im-alter-was-tut-mir-gut">
															Weit
 erlesen &hellip;													</a>
					</p>
							</div>

			</div>
		</di
 v>
			<div class="blog-item col-12">
			<div class="item-inner">
			<!-- It
 em image -->
						<!-- // Item image -->
			
			<div class="item-ct">

			
 						<h3 class="item-title"><a class="mod-articles-category-title " href="
 https://www.nachbarschaftsverein-fuldatal.de/seelisches-wohlergehen-im-alte
 r">Seelisches Wohlergehen im Alter: Informationsveranstaltung in Fuldatal s
 tieß auf großes Interesse</a></h3>
				
				<div class="item-meta">
					
	
 				
									</div>

									<p class="item-introtext">
						Auf Einladu
 ng des Seniorenbeirats und des Nachbarschaftsvereins Fuldatal hatten intere
 ssierte Bürgerinnen und Bürger in der vorletzten Januarwoche die Gelegenhei
 t, sich intensiv mit einem Thema auseinanderzusetzen, das viele Menschen be
 wegt: dem seelischen Wohlergehen im Alter. Die gut besuchte Informationsver
 anstaltung bot wertvolle Impulse, praxisnahe Anregungen und Raum für Austau
 sch in angenehmer Atmosphäre.  Als Referentin konnte die Psychologin und Th
 erapeutin&nbsp;Cordula Schmidt&nbsp;gewonnen werden, die den Teilnehmenden 
 auf verständliche und zugleich fundierte Weise wissenschaftlich belegte,...
 					</p>
				
									<p class="item-readmore">
						<a class="mod-artic
 les-category-title " href="https://www.nachbarschaftsverein-fuldatal.de/see
 lisches-wohlergehen-im-alter">
															Weiterlesen &hellip;									
 				</a>
					</p>
							</div>

			</div>
		</div>
			<div class="blog-it
 em col-12">
			<div class="item-inner">
			<!-- Item image -->
						<!-- /
 / Item image -->
			
			<div class="item-ct">

									<h3 class="item-tit
 le"><a class="mod-articles-category-title " href="https://www.nachbarschaft
 sverein-fuldatal.de/neujahrskonzert-2026-der-musikschule-chroma">Neujahrsko
 nzert 2026 der Musikschule Chroma</a></h3>
				
				<div class="item-meta">
 
					
					
									</div>

									<p class="item-introtext">
						Nat
 ürlich war der Nachbarschaftsverein Fuldatal beim traditionellen Neujahrsko
 nzert der Musikschule Chroma in der Mehrzweckhalle in Vellmar-Frommershause
 n wieder mit von der Partie. Die Louis Spohr-Sinfonietta unter der Leitung 
 von Lore Schrettner begeisterte die zahlreichen Gäste auf ein Neues mit vir
 tuos dargebotenen Stücken, voller temperamentvoller Hingabe, aber auch gefü
 hlvoll und besinnlich.  <em>Die Louis Spohr-Sinfonietta unter der Leitung v
 on Lore Schrettner (Bildmitte)</em> Das breit gefächerte Repertoire umfasst
 e dieses Mal unter anderem Stücke von Robert Stolz, wie den UNO-Marsch &nbs
 p;sowie –...					</p>
				
									<p class="item-readmore">
						<a clas
 s="mod-articles-category-title " href="https://www.nachbarschaftsverein-ful
 datal.de/neujahrskonzert-2026-der-musikschule-chroma">
															Weite
 rlesen &hellip;													</a>
					</p>
							</div>

			</div>
		</div
 >
			<div class="blog-item col-12">
			<div class="item-inner">
			<!-- Ite
 m image -->
						<!-- // Item image -->
			
			<div class="item-ct">

				
 					<h3 class="item-title"><a class="mod-articles-category-title " href="h
 ttps://www.nachbarschaftsverein-fuldatal.de/senioren-in-bewegung-neustart-n
 ach-der-winterpause-am-15-januar">Senioren in Bewegung - nach der Winterpau
 se am 15. Januar neu gestartet</a></h3>
				
				<div class="item-meta">
		
 			
					
									</div>

									<p class="item-introtext">
						Der Na
 chbarschaftsverein bringt „Senioren in Bewegung“ – Training für eine sicher
 e Mobilität im Alltag Einmal wöchentlich am Donnerstag treffen sich aktive 
 Seniorinnen und Senioren im Fuldataler Forum, um sich mithilfe einer im Sen
 iorensport erfahrenen Sportlehrerin für ihren Alltag in Form zu bringen. So
  trainieren sie am Anfang zur Musik der 60er ihre Orientierung, ihr Gedächt
 nis und Multitasking Fähigkeiten, indem nicht nur rhythmisch gelaufen wird,
  sondern indem Zusatzaufgaben (Bälle zuwerfen, einem Partner wie ein Schatt
 en zu folgen, Übungen zu Zahlen erledigen o.ä.) zu bewältigen sind.					</p
 >
				
									<p class="item-readmore">
						<a class="mod-articles-cate
 gory-title " href="https://www.nachbarschaftsverein-fuldatal.de/senioren-in
 -bewegung-neustart-nach-der-winterpause-am-15-januar">
															Weite
 rlesen &hellip;													</a>
					</p>
							</div>

			</div>
		</div
 >
			<div class="blog-item col-12">
			<div class="item-inner">
			<!-- Ite
 m image -->
						<!-- // Item image -->
			
			<div class="item-ct">

				
 					<h3 class="item-title"><a class="mod-articles-category-title " href="h
 ttps://www.nachbarschaftsverein-fuldatal.de/sicher-im-alter-informiert-stat
 t-hereingefallen">Sicher im Alter - informiert statt hereingefallen</a></h3
 >
				
				<div class="item-meta">
					
					
									</div>

									<p
  class="item-introtext">
						Mit großem Interesse und spürbarer Aufmerksa
 mkeit verfolgten zahlreiche Gäste am dritten Mittwoch im November eine offe
 ne Informationsveranstaltung unter dem Titel „Sicher im Alter – informiert 
 statt hereingefallen“, zu der der Nachbarschaftsverein Fuldatal zusammen mi
 t dem Seniorenbeirat der Gemeinde Fuldatal eingeladen haben. Ziel des Abend
 s war es, ältere Menschen über aktuelle Betrugsmaschen aufzuklären und ihne
 n praktische Handlungsempfehlungen an die Hand zu geben. Die Resonanz zeigt
 e deutlich, wie wichtig das Thema für viele Seniorinnen und Senioren inzwis
 chen geworden ist.  <em>Bild oben:</em>...					</p>
				
									<p class=
 "item-readmore">
						<a class="mod-articles-category-title " href="https:
 //www.nachbarschaftsverein-fuldatal.de/sicher-im-alter-informiert-statt-her
 eingefallen">
															Weiterlesen &hellip;													</a>
					</p
 >
							</div>

			</div>
		</div>
			<div class="blog-item col-12">
			<d
 iv class="item-inner">
			<!-- Item image -->
						<!-- // Item image -->

 			
			<div class="item-ct">

									<h3 class="item-title"><a class="mod
 -articles-category-title " href="https://www.nachbarschaftsverein-fuldatal.
 de/vorsorgevollmacht-patienten-und-betreuungsverfuegung">Vorsorgevollmacht,
  Patienten- und Betreuungsverfügung</a></h3>
				
				<div class="item-meta
 ">
					
					
									</div>

									<p class="item-introtext">
						D
 er Seniorenbeirat der Gemeinde Fuldatal und der Nachbarschaftsverein Fuldat
 al hatten zu einer offenen Informationsveranstaltung über Vorsorgevollmacht
 , Patienten- und Betreuungsverfügung eingeladen.  Deren Vorsitzende Brigitt
 e Ringeler-Leipholz und Michael Thöne (Bildmitte oben) freuten sich, rund 6
 0 Gäste im BeneVit Haus Sonnenhof in Fuldatal-Ihringshausen am dritten Mitt
 woch im September begrüßen zu dürfen  Martina Homburg vom Betreuungsverein 
 e. V. Hofgeismar (Bild oben) hat den Anwesenden durch ihre&nbsp;verständlic
 he und praxisnahe Darstellung nicht nur wichtige rechtliche Zusammenhänge..
 .					</p>
				
									<p class="item-readmore">
						<a class="mod-arti
 cles-category-title " href="https://www.nachbarschaftsverein-fuldatal.de/vo
 rsorgevollmacht-patienten-und-betreuungsverfuegung">
															Weiterl
 esen &hellip;													</a>
					</p>
							</div>

			</div>
		</div>

 	</div></div>
</p>
DTSTAMP:20260424T142935
DTSTART;TZID=Europe/Berlin:20260916T150000
DTEND;TZID=Europe/Berlin:20260916T170000
SEQUENCE:0
TRANSP:OPAQUE
END:VEVENT
END:VCALENDAR