BEGIN:VCALENDAR
VERSION:2.0
PRODID:-//jEvents 2.0 for Joomla//EN
CALSCALE:GREGORIAN
METHOD:PUBLISH
BEGIN:VTIMEZONE
TZID:Europe/Berlin
BEGIN:STANDARD
DTSTART:20251117T150000
RDATE:20260329T030000
TZOFFSETFROM:+0200
TZOFFSETTO:+0100
TZNAME:Europe/Berlin CET
END:STANDARD
BEGIN:STANDARD
DTSTART:20261025T020000
RDATE:20270328T030000
TZOFFSETFROM:+0200
TZOFFSETTO:+0100
TZNAME:Europe/Berlin CET
END:STANDARD
BEGIN:STANDARD
DTSTART:20271031T020000
RDATE:20280326T030000
TZOFFSETFROM:+0200
TZOFFSETTO:+0100
TZNAME:Europe/Berlin CET
END:STANDARD
BEGIN:STANDARD
DTSTART:20281029T020000
RDATE:20290325T030000
TZOFFSETFROM:+0200
TZOFFSETTO:+0100
TZNAME:Europe/Berlin CET
END:STANDARD
BEGIN:STANDARD
DTSTART:20291028T020000
RDATE:20300331T030000
TZOFFSETFROM:+0200
TZOFFSETTO:+0100
TZNAME:Europe/Berlin CET
END:STANDARD
BEGIN:STANDARD
DTSTART:20301027T020000
RDATE:20310330T030000
TZOFFSETFROM:+0200
TZOFFSETTO:+0100
TZNAME:Europe/Berlin CET
END:STANDARD
BEGIN:STANDARD
DTSTART:20311026T020000
RDATE:20320328T030000
TZOFFSETFROM:+0200
TZOFFSETTO:+0100
TZNAME:Europe/Berlin CET
END:STANDARD
BEGIN:DAYLIGHT
DTSTART:20260329T030000
RDATE:20261025T020000
TZOFFSETFROM:+0100
TZOFFSETTO:+0200
TZNAME:Europe/Berlin CEST
END:DAYLIGHT
BEGIN:DAYLIGHT
DTSTART:20270328T030000
RDATE:20271031T020000
TZOFFSETFROM:+0100
TZOFFSETTO:+0200
TZNAME:Europe/Berlin CEST
END:DAYLIGHT
BEGIN:DAYLIGHT
DTSTART:20280326T030000
RDATE:20281029T020000
TZOFFSETFROM:+0100
TZOFFSETTO:+0200
TZNAME:Europe/Berlin CEST
END:DAYLIGHT
BEGIN:DAYLIGHT
DTSTART:20290325T030000
RDATE:20291028T020000
TZOFFSETFROM:+0100
TZOFFSETTO:+0200
TZNAME:Europe/Berlin CEST
END:DAYLIGHT
BEGIN:DAYLIGHT
DTSTART:20300331T030000
RDATE:20301027T020000
TZOFFSETFROM:+0100
TZOFFSETTO:+0200
TZNAME:Europe/Berlin CEST
END:DAYLIGHT
BEGIN:DAYLIGHT
DTSTART:20310330T030000
RDATE:20311026T020000
TZOFFSETFROM:+0100
TZOFFSETTO:+0200
TZNAME:Europe/Berlin CEST
END:DAYLIGHT
END:VTIMEZONE
BEGIN:VEVENT
UID:6a25d74543da878f4afde23f7863036c
CATEGORIES:Veranstaltungen
CREATED:20260302T114505
SUMMARY:Informationsveranstaltung im November
DESCRIPTION:Der Nachbarschaftsverein Fuldatal e. V. und der Seniorenbeirat der Gemeinde
  Fuldatal \nladen ein zu einer offenen Informationsveranstaltung zum Thema:
 \nwird noch bekanntgegeben\nWann:  Mittwoch, 18. November 2026, 15.00 Uhr\n
 Wo: BeneVit Haus Sonnenhof, Bruchstraße 4, Fuldatal-Ihringshausen \n(das nä
 chste Gebäude rechts neben dem Rathaus, 3. Etage rechts, Fahrstuhl vorhande
 n)\nReferent/in: wird noch bekanntgegeben\nDer Nachbarschaftsverein bietet 
  auf Wunsch einen Fahrdienst an.\nWegen der organisatorischen Vorbereitunge
 n wird um Voranmeldung unter 0561/9818-1103 oder - 1071 gebeten, alternativ
  ist auch eine Anmeldung per eMail an Diese E-Mail-Adresse ist vor Spambots
  geschützt! Zur Anzeige muss JavaScript eingeschaltet sein.\nmöglich.\n
   
          Wer weiß denn sowas?        


	

\n
            Das könnte Sie eb
 enfalls interessieren:        

			
			
			
						
			
			

									Einlad
 ung zur Mitgliederversammlung am 29.04.2026 (/einladung-zur-mitgliederversa
 mmlung-am-29-04-2026)
				
				
					
					
									

									
						Sehr
  geehrtes Mitglied,unsere diesjährige ordentliche Mitgliederversammlung fin
 det statt am Mittwoch, 29.04.2026 um 17.00 Uhr in Raum 300 (2. Stock links)
  des Rathauses,Am Rathaus 9 in Fuldatal-Ihringshausen,zu der hiermit herzli
 chst eingeladen wird.  Auf der Tagesordnung stehen folgende Themen:  TOP 1:
  Eröffnung und Begrüßung  TOP 2:  Gedenken an unsere verstorbenen Mitgliede
 r  TOP 3:  Berichte: Des Vorsitzenden und der Kassiererin  TOP 4:  Aussprac
 he zu den Berichten  TOP 5:  Bericht der Revisoren und Antrag auf Entlastun
 g des Vorstandes  TOP 6:  Wahl einer Kassenprüferin oder eines Kassenprüfer
 s  TOP 7: ...					\n
				
									
						
															Weiterlesen …				
 									 (/einladung-zur-mitgliederversammlung-am-29-04-2026)
					\n
				
 			

			
		
			
			
			
						
			
			

									Ihr Android Smartphon /Tab
 let - das unbekannte Wesen (/ihr-android-smartphon-tablet-das-unbekannte-we
 sen)
				
				
					
					
									

									
						Haben Sie kürzlich ei
 n neues Smartphone/-Tablet erworben oder beabsichtigen Sie, sich diese neue
  Technik zuzulegen?  Und……………..  - sind noch unsicher mit der Bedienung,  -
  oder möchten noch weitere Funktionen kennenlernen, wie z.B. Ersteinrichtun
 g, Installation von Apps, Nutzung der Kamera, Versenden von Textnachrichten
 .     Dann bieten wir Ihnen unsere Unterstützung an.   Der nächste Workshop
  begann am 25.03.2026 von 10.30 Uhr – 11.30 Uhr und findet jede Woche statt
 , insgesamt ca.6 x, maximal 10 Personen, im Rathaus 2.Stock Zimmer 301 stat
 t.   Um Voranmeldung wird gebeten.  Weitere Informationen erhalten...					\
 n
				
									
						
															Weiterlesen …													 (/ihr-and
 roid-smartphon-tablet-das-unbekannte-wesen)
					\n
							

			
		
			
			
 
			
						
			
			

									Kulissenschieber Fuldatal boten „Guns ‚n‘ Nun
 s“ (/kulissenschieber-fuldatal-boten-guns-n-nuns)
				
				
					
					
			
 						

									
						Im gut gefüllten FuldaTalerForum in Fuldatal-Ihring
 shausen wurde am Nachmittag des Frühlingsanfangs (21. März) Theaterfreunden
  ein ebenso unterhaltsames wie gelungenes Erlebnis geboten: Das Ensemble de
 r Kulissenschieber präsentierte die spritzige Kriminalkomödie „Guns ’n’ Nun
 s“ – und traf damit genau ins Schwarze. Der Eintritt war frei, doch die zah
 lreichen Besucherinnen und Besucher zeigten sich überaus spendabel. Die ges
 ammelten Spenden kommen dem Nachbarschaftsverein Fuldatal zugute, der gemei
 nsam mit den Kulissenschiebern zu diesem besonderen Theaternachmittag einge
 laden hatte.  Bereits beim...					\n
				
									
						
															W
 eiterlesen …													 (/kulissenschieber-fuldatal-boten-guns-n-nuns)
		
 			\n
							

			
		
			
			
			
						
			
			

									Gesunde Ernährun
 g im Alter - was tut mir gut? (/gesunde-ernaehrung-im-alter-was-tut-mir-gut
 )
				
				
					
					
									

									
						Auf große Resonanz stieß
  die offene Informationsveranstaltung zum Thema „Gesunde Ernährung im Alter
  – was tut mir gut?“, zu der der Seniorenbeirat sowie der Nachbarschaftsver
 ein Fuldatal Mitte März eingeladen hatten. Interessierte Bürgerinnen und Bü
 rger, darunter auch Fuldatals Bürgermeister Tore Florin, nutzten die Gelege
 nheit, sich umfassend zu informieren und miteinander ins Gespräch zu kommen
 .    Referentin Brigitte Ringeler-Leipholz in Aktion  Den Schwerpunkt der V
 eranstaltung bildete das Thema „Fette“ als wichtiger Bestandteil einer ausg
 ewogenen und abwechslungsreichen Ernährung. Die...					\n
				
									
		
 				
															Weiterlesen …													 (/gesunde-ernaehrung-im-alte
 r-was-tut-mir-gut)
					\n
							

			
		
			
			
			
						
			
			

				
 					Seelisches Wohlergehen im Alter: Informationsveranstaltung in Fuldatal
  stieß auf großes Interesse (/seelisches-wohlergehen-im-alter)
				
				
		
 			
					
									

									
						Auf Einladung des Seniorenbeirats und 
 des Nachbarschaftsvereins Fuldatal hatten interessierte Bürgerinnen und Bür
 ger in der vorletzten Januarwoche die Gelegenheit, sich intensiv mit einem 
 Thema auseinanderzusetzen, das viele Menschen bewegt: dem seelischen Wohler
 gehen im Alter. Die gut besuchte Informationsveranstaltung bot wertvolle Im
 pulse, praxisnahe Anregungen und Raum für Austausch in angenehmer Atmosphär
 e.  Als Referentin konnte die Psychologin und Therapeutin Cordula Schmidt g
 ewonnen werden, die den Teilnehmenden auf verständliche und zugleich fundie
 rte Weise wissenschaftlich belegte,...					\n
				
									
						
							
 								Weiterlesen …													 (/seelisches-wohlergehen-im-alter)
					
 \n
							

			
		
			
			
			
						
			
			

									Neujahrskonzert 202
 6 der Musikschule Chroma (/neujahrskonzert-2026-der-musikschule-chroma)
			
 	
				
					
					
									

									
						Natürlich war der Nachbarscha
 ftsverein Fuldatal beim traditionellen Neujahrskonzert der Musikschule Chro
 ma in der Mehrzweckhalle in Vellmar-Frommershausen wieder mit von der Parti
 e. Die Louis Spohr-Sinfonietta unter der Leitung von Lore Schrettner begeis
 terte die zahlreichen Gäste auf ein Neues mit virtuos dargebotenen Stücken,
  voller temperamentvoller Hingabe, aber auch gefühlvoll und besinnlich.  Di
 e Louis Spohr-Sinfonietta unter der Leitung von Lore Schrettner (Bildmitte)
  Das breit gefächerte Repertoire umfasste dieses Mal unter anderem Stücke v
 on Robert Stolz, wie den UNO-Marsch  sowie –...					\n
				
									
					
 	
															Weiterlesen …													 (/neujahrskonzert-2026-der-musi
 kschule-chroma)
					\n
							

			
		
			
			
			
						
			
			

							
 		Senioren in Bewegung - nach der Winterpause am 15. Januar neu gestartet
	
 			
				
					
					
									

									
						Der Nachbarschaftsverein br
 ingt „Senioren in Bewegung“ – Training für eine sichere Mobilität im Alltag
  Einmal wöchentlich am Donnerstag treffen sich aktive Seniorinnen und Senio
 ren im Fuldataler Forum, um sich mithilfe einer im Seniorensport erfahrenen
  Sportlehrerin für ihren Alltag in Form zu bringen. So trainieren sie am An
 fang zur Musik der 60er ihre Orientierung, ihr Gedächtnis und Multitasking 
 Fähigkeiten, indem nicht nur rhythmisch gelaufen wird, sondern indem Zusatz
 aufgaben (Bälle zuwerfen, einem Partner wie ein Schatten zu folgen, Übungen
  zu Zahlen erledigen o.ä.) zu bewältigen sind.					\n
				
									
						
 
															Weiterlesen …													 (/senioren-in-bewegung-neustart-
 nach-der-winterpause-am-15-januar)
					\n
							

			
		
			
			
			
				
 		
			
			

									Sicher im Alter - informiert statt hereingefallen (/si
 cher-im-alter-informiert-statt-hereingefallen)
				
				
					
					
						
 			

									
						Mit großem Interesse und spürbarer Aufmerksamkeit verf
 olgten zahlreiche Gäste am dritten Mittwoch im November eine offene Informa
 tionsveranstaltung unter dem Titel „Sicher im Alter – informiert statt here
 ingefallen“, zu der der Nachbarschaftsverein Fuldatal zusammen mit dem Seni
 orenbeirat der Gemeinde Fuldatal eingeladen haben. Ziel des Abends war es, 
 ältere Menschen über aktuelle Betrugsmaschen aufzuklären und ihnen praktisc
 he Handlungsempfehlungen an die Hand zu geben. Die Resonanz zeigte deutlich
 , wie wichtig das Thema für viele Seniorinnen und Senioren inzwischen gewor
 den ist.  Bild oben:...					\n
				
									
						
															Weiterl
 esen …													 (/sicher-im-alter-informiert-statt-hereingefallen)
				
 	\n
							

			
		
			
			
			
						
			
			

									Vorsorgevollmacht,
  Patienten- und Betreuungsverfügung (/vorsorgevollmacht-patienten-und-betre
 uungsverfuegung)
				
				
					
					
									

									
						Der Senio
 renbeirat der Gemeinde Fuldatal und der Nachbarschaftsverein Fuldatal hatte
 n zu einer offenen Informationsveranstaltung über Vorsorgevollmacht, Patien
 ten- und Betreuungsverfügung eingeladen.  Deren Vorsitzende Brigitte Ringel
 er-Leipholz und Michael Thöne (Bildmitte oben) freuten sich, rund 60 Gäste 
 im BeneVit Haus Sonnenhof in Fuldatal-Ihringshausen am dritten Mittwoch im 
 September begrüßen zu dürfen  Martina Homburg vom Betreuungsverein e. V. Ho
 fgeismar (Bild oben) hat den Anwesenden durch ihre verständliche und praxis
 nahe Darstellung nicht nur wichtige rechtliche Zusammenhänge...					\n
				
 
									
						
															Weiterlesen …													 (/vorsorgevollm
 acht-patienten-und-betreuungsverfuegung)
					\n
							

			
		
	
\n
X-ALT-DESC;FMTTYPE=text/html:<p>Der Nachbarschaftsverein Fuldatal e. V. und der Seniorenbeirat der Gemei
 nde Fuldatal&nbsp;<br />laden ein zu einer offenen Informationsveranstaltun
 g zum&nbsp;<strong>Thema</strong>:</p><p><strong>wird noch bekanntgegeben</
 strong></p><p>Wann:<strong>&nbsp; Mittwoch, 18. November 2026, 15.00 Uhr</s
 trong></p><p>Wo:<strong>&nbsp;BeneVit Haus Sonnenhof, Bruchstraße 4, Fuldat
 al-Ihringshausen&nbsp;<br /></strong>(das nächste Gebäude rechts neben dem 
 Rathaus, 3. Etage rechts, Fahrstuhl vorhanden)</p><p><strong>Referent/in: w
 ird noch bekanntgegeben</strong></p><p>Der Nachbarschaftsverein bietet&nbsp
 ; auf Wunsch einen Fahrdienst an.</p><p>Wegen der organisatorischen Vorbere
 itungen wird um Voranmeldung unter&nbsp;<a href="https://www.nachbarschafts
 verein-fuldatal.de/tel:0561/9818-1103">0561/9818-1103</a>&nbsp;oder - 1071 
 gebeten, alternativ ist auch eine Anmeldung per eMail an&nbsp;<em><joomla-h
 idden-mail  is-link="1" is-email="1" first="aW5mbw==" last="bmFjaGJhcnNjaGF
 mdHN2ZXJlaW4tZnVsZGF0YWwuZGU=" text="aW5mb0BuYWNoYmFyc2NoYWZ0c3ZlcmVpbi1mdW
 xkYXRhbC5kZQ==" base="" >Diese E-Mail-Adresse ist vor Spambots geschützt! Z
 ur Anzeige muss JavaScript eingeschaltet sein.</joomla-hidden-mail></em><br
  />möglich.</p><hr id="system-readmore" /><p><div class="moduletable ">
   
          <h3 >Wer weiß denn sowas?</h3>        

<div class="custom"  >
	<i
 frame src="https://www.raetselstunde.de/quizfrage-zufall.html" name="Zufall
 s-Quizfrage" width="100%" height="200" frameborder="0" scrolling="no" align
 ="middle"></iframe></div>
</div>
</p><p><div class="moduletable ">
        
     <h4 >Das könnte Sie ebenfalls interessieren:</h4>        
<div class="m
 agz-layout list-layout row">
			<div class="blog-item col-12">
			<div clas
 s="item-inner">
			<!-- Item image -->
						<!-- // Item image -->
			
			
 <div class="item-ct">

									<h3 class="item-title"><a class="mod-articl
 es-category-title " href="https://www.nachbarschaftsverein-fuldatal.de/einl
 adung-zur-mitgliederversammlung-am-29-04-2026">Einladung zur Mitgliedervers
 ammlung am 29.04.2026</a></h3>
				
				<div class="item-meta">
					
					
 
									</div>

									<p class="item-introtext">
						Sehr geehrtes M
 itglied,unsere diesjährige ordentliche Mitgliederversammlung findet statt <
 strong>am Mittwoch, 29.04.2026 um 17.00 Uhr in Raum 300 (2. Stock links) de
 s Rathauses,</strong>Am Rathaus 9 in Fuldatal-Ihringshausen,zu der hiermit 
 herzlichst eingeladen wird.  Auf der Tagesordnung stehen folgende Themen:  
 TOP 1: Eröffnung und Begrüßung  TOP 2:&nbsp; Gedenken an unsere verstorbene
 n Mitglieder  TOP 3:&nbsp; Berichte: Des Vorsitzenden und der Kassiererin  
 TOP 4:&nbsp; Aussprache zu den Berichten  TOP 5:&nbsp; Bericht der Revisore
 n und Antrag auf Entlastung des Vorstandes  TOP 6:&nbsp; Wahl einer Kassenp
 rüferin oder eines Kassenprüfers  TOP 7:&nbsp;...					</p>
				
									<p
  class="item-readmore">
						<a class="mod-articles-category-title " href=
 "https://www.nachbarschaftsverein-fuldatal.de/einladung-zur-mitgliederversa
 mmlung-am-29-04-2026">
															Weiterlesen &hellip;													</a>
 
					</p>
							</div>

			</div>
		</div>
			<div class="blog-item col-1
 2">
			<div class="item-inner">
			<!-- Item image -->
						<!-- // Item i
 mage -->
			
			<div class="item-ct">

									<h3 class="item-title"><a c
 lass="mod-articles-category-title " href="https://www.nachbarschaftsverein-
 fuldatal.de/ihr-android-smartphon-tablet-das-unbekannte-wesen">Ihr Android 
 Smartphon /Tablet - das unbekannte Wesen</a></h3>
				
				<div class="item
 -meta">
					
					
									</div>

									<p class="item-introtext">
		
 				Haben Sie kürzlich ein neues Smartphone/-Tablet erworben oder beabsicht
 igen Sie, sich diese neue Technik zuzulegen?  Und……………..  -&nbsp;sind noch 
 unsicher mit der Bedienung,  -&nbsp;oder möchten noch weitere Funktionen ke
 nnenlernen,&nbsp;wie z.B. Ersteinrichtung,&nbsp;Installation von Apps,&nbsp
 ;Nutzung der Kamera,&nbsp;Versenden von Textnachrichten.    &nbsp;Dann biet
 en wir Ihnen unsere Unterstützung an.&nbsp;  <strong>Der nächste Workshop b
 egann am&nbsp;25.03.2026&nbsp;von&nbsp;10.30&nbsp;Uhr – 11.30&nbsp;Uhr&nbsp
 ;und findet&nbsp;jede Woche&nbsp;statt, insgesamt&nbsp;ca.6 x,&nbsp;maximal
  10 Personen,&nbsp;im Rathaus&nbsp;2.Stock Zimmer&nbsp;301&nbsp;statt.&nbsp
 ;</strong>  Um Voranmeldung wird gebeten.  Weitere Informationen erhalten..
 .					</p>
				
									<p class="item-readmore">
						<a class="mod-arti
 cles-category-title " href="https://www.nachbarschaftsverein-fuldatal.de/ih
 r-android-smartphon-tablet-das-unbekannte-wesen">
															Weiterlese
 n &hellip;													</a>
					</p>
							</div>

			</div>
		</div>
			
 <div class="blog-item col-12">
			<div class="item-inner">
			<!-- Item ima
 ge -->
						<!-- // Item image -->
			
			<div class="item-ct">

									
 <h3 class="item-title"><a class="mod-articles-category-title " href="https:
 //www.nachbarschaftsverein-fuldatal.de/kulissenschieber-fuldatal-boten-guns
 -n-nuns">Kulissenschieber Fuldatal boten „Guns ‚n‘ Nuns“</a></h3>
				
				
 <div class="item-meta">
					
					
									</div>

									<p class="ite
 m-introtext">
						Im gut gefüllten FuldaTalerForum in Fuldatal-Ihringshau
 sen wurde am Nachmittag des Frühlingsanfangs (21. März) Theaterfreunden ein
  ebenso unterhaltsames wie gelungenes Erlebnis geboten: Das Ensemble der Ku
 lissenschieber präsentierte die spritzige Kriminalkomödie „Guns ’n’ Nuns“ –
  und traf damit genau ins Schwarze. Der Eintritt war frei, doch die zahlrei
 chen Besucherinnen und Besucher zeigten sich überaus spendabel. Die gesamme
 lten Spenden kommen dem Nachbarschaftsverein Fuldatal zugute, der gemeinsam
  mit den Kulissenschiebern zu diesem besonderen Theaternachmittag eingelade
 n hatte.  Bereits beim...					</p>
				
									<p class="item-readmore">

 						<a class="mod-articles-category-title " href="https://www.nachbarscha
 ftsverein-fuldatal.de/kulissenschieber-fuldatal-boten-guns-n-nuns">
							
 								Weiterlesen &hellip;													</a>
					</p>
							</div>

			<
 /div>
		</div>
			<div class="blog-item col-12">
			<div class="item-inner"
 >
			<!-- Item image -->
						<!-- // Item image -->
			
			<div class="it
 em-ct">

									<h3 class="item-title"><a class="mod-articles-category-ti
 tle " href="https://www.nachbarschaftsverein-fuldatal.de/gesunde-ernaehrung
 -im-alter-was-tut-mir-gut">Gesunde Ernährung im Alter - was tut mir gut?</a
 ></h3>
				
				<div class="item-meta">
					
					
									</div>

						
 			<p class="item-introtext">
						Auf große Resonanz stieß die offene Inf
 ormationsveranstaltung zum Thema „Gesunde Ernährung im Alter – was tut mir 
 gut?“, zu der der Seniorenbeirat sowie der Nachbarschaftsverein Fuldatal Mi
 tte März eingeladen hatten. Interessierte Bürgerinnen und Bürger, darunter 
 auch Fuldatals Bürgermeister Tore Florin, nutzten die Gelegenheit, sich umf
 assend zu informieren und miteinander ins Gespräch zu kommen.    <em>Refere
 ntin Brigitte Ringeler-Leipholz in Aktion</em>  Den Schwerpunkt der Veranst
 altung bildete das Thema „Fette“ als wichtiger Bestandteil einer ausgewogen
 en und abwechslungsreichen Ernährung. Die...					</p>
				
									<p clas
 s="item-readmore">
						<a class="mod-articles-category-title " href="http
 s://www.nachbarschaftsverein-fuldatal.de/gesunde-ernaehrung-im-alter-was-tu
 t-mir-gut">
															Weiterlesen &hellip;													</a>
					</p>

 							</div>

			</div>
		</div>
			<div class="blog-item col-12">
			<div
  class="item-inner">
			<!-- Item image -->
						<!-- // Item image -->
		
 	
			<div class="item-ct">

									<h3 class="item-title"><a class="mod-a
 rticles-category-title " href="https://www.nachbarschaftsverein-fuldatal.de
 /seelisches-wohlergehen-im-alter">Seelisches Wohlergehen im Alter: Informat
 ionsveranstaltung in Fuldatal stieß auf großes Interesse</a></h3>
				
				
 <div class="item-meta">
					
					
									</div>

									<p class="ite
 m-introtext">
						Auf Einladung des Seniorenbeirats und des Nachbarschaft
 svereins Fuldatal hatten interessierte Bürgerinnen und Bürger in der vorlet
 zten Januarwoche die Gelegenheit, sich intensiv mit einem Thema auseinander
 zusetzen, das viele Menschen bewegt: dem seelischen Wohlergehen im Alter. D
 ie gut besuchte Informationsveranstaltung bot wertvolle Impulse, praxisnahe
  Anregungen und Raum für Austausch in angenehmer Atmosphäre.  Als Referenti
 n konnte die Psychologin und Therapeutin&nbsp;Cordula Schmidt&nbsp;gewonnen
  werden, die den Teilnehmenden auf verständliche und zugleich fundierte Wei
 se wissenschaftlich belegte,...					</p>
				
									<p class="item-readm
 ore">
						<a class="mod-articles-category-title " href="https://www.nachb
 arschaftsverein-fuldatal.de/seelisches-wohlergehen-im-alter">
													
 		Weiterlesen &hellip;													</a>
					</p>
							</div>

			</div>

 		</div>
			<div class="blog-item col-12">
			<div class="item-inner">
			<
 !-- Item image -->
						<!-- // Item image -->
			
			<div class="item-ct"
 >

									<h3 class="item-title"><a class="mod-articles-category-title " 
 href="https://www.nachbarschaftsverein-fuldatal.de/neujahrskonzert-2026-der
 -musikschule-chroma">Neujahrskonzert 2026 der Musikschule Chroma</a></h3>
	
 			
				<div class="item-meta">
					
					
									</div>

									<p cl
 ass="item-introtext">
						Natürlich war der Nachbarschaftsverein Fuldatal
  beim traditionellen Neujahrskonzert der Musikschule Chroma in der Mehrzwec
 khalle in Vellmar-Frommershausen wieder mit von der Partie. Die Louis Spohr
 -Sinfonietta unter der Leitung von Lore Schrettner begeisterte die zahlreic
 hen Gäste auf ein Neues mit virtuos dargebotenen Stücken, voller temperamen
 tvoller Hingabe, aber auch gefühlvoll und besinnlich.  <em>Die Louis Spohr-
 Sinfonietta unter der Leitung von Lore Schrettner (Bildmitte)</em> Das brei
 t gefächerte Repertoire umfasste dieses Mal unter anderem Stücke von Robert
  Stolz, wie den UNO-Marsch &nbsp;sowie –...					</p>
				
									<p class
 ="item-readmore">
						<a class="mod-articles-category-title " href="https
 ://www.nachbarschaftsverein-fuldatal.de/neujahrskonzert-2026-der-musikschul
 e-chroma">
															Weiterlesen &hellip;													</a>
					</p>
	
 						</div>

			</div>
		</div>
			<div class="blog-item col-12">
			<div 
 class="item-inner">
			<!-- Item image -->
						<!-- // Item image -->
			
 
			<div class="item-ct">

									<h3 class="item-title"><a class="mod-ar
 ticles-category-title " href="https://www.nachbarschaftsverein-fuldatal.de/
 senioren-in-bewegung-neustart-nach-der-winterpause-am-15-januar">Senioren i
 n Bewegung - nach der Winterpause am 15. Januar neu gestartet</a></h3>
				
 
				<div class="item-meta">
					
					
									</div>

									<p class
 ="item-introtext">
						Der Nachbarschaftsverein bringt „Senioren in Beweg
 ung“ – Training für eine sichere Mobilität im Alltag Einmal wöchentlich am 
 Donnerstag treffen sich aktive Seniorinnen und Senioren im Fuldataler Forum
 , um sich mithilfe einer im Seniorensport erfahrenen Sportlehrerin für ihre
 n Alltag in Form zu bringen. So trainieren sie am Anfang zur Musik der 60er
  ihre Orientierung, ihr Gedächtnis und Multitasking Fähigkeiten, indem nich
 t nur rhythmisch gelaufen wird, sondern indem Zusatzaufgaben (Bälle zuwerfe
 n, einem Partner wie ein Schatten zu folgen, Übungen zu Zahlen erledigen o.
 ä.) zu bewältigen sind.					</p>
				
									<p class="item-readmore">
		
 				<a class="mod-articles-category-title " href="https://www.nachbarschaft
 sverein-fuldatal.de/senioren-in-bewegung-neustart-nach-der-winterpause-am-1
 5-januar">
															Weiterlesen &hellip;													</a>
					</p>
	
 						</div>

			</div>
		</div>
			<div class="blog-item col-12">
			<div 
 class="item-inner">
			<!-- Item image -->
						<!-- // Item image -->
			
 
			<div class="item-ct">

									<h3 class="item-title"><a class="mod-ar
 ticles-category-title " href="https://www.nachbarschaftsverein-fuldatal.de/
 sicher-im-alter-informiert-statt-hereingefallen">Sicher im Alter - informie
 rt statt hereingefallen</a></h3>
				
				<div class="item-meta">
					
			
 		
									</div>

									<p class="item-introtext">
						Mit großem In
 teresse und spürbarer Aufmerksamkeit verfolgten zahlreiche Gäste am dritten
  Mittwoch im November eine offene Informationsveranstaltung unter dem Titel
  „Sicher im Alter – informiert statt hereingefallen“, zu der der Nachbarsch
 aftsverein Fuldatal zusammen mit dem Seniorenbeirat der Gemeinde Fuldatal e
 ingeladen haben. Ziel des Abends war es, ältere Menschen über aktuelle Betr
 ugsmaschen aufzuklären und ihnen praktische Handlungsempfehlungen an die Ha
 nd zu geben. Die Resonanz zeigte deutlich, wie wichtig das Thema für viele 
 Seniorinnen und Senioren inzwischen geworden ist.  <em>Bild oben:</em>...		
 			</p>
				
									<p class="item-readmore">
						<a class="mod-article
 s-category-title " href="https://www.nachbarschaftsverein-fuldatal.de/siche
 r-im-alter-informiert-statt-hereingefallen">
															Weiterlesen &he
 llip;													</a>
					</p>
							</div>

			</div>
		</div>
			<div 
 class="blog-item col-12">
			<div class="item-inner">
			<!-- Item image --
 >
						<!-- // Item image -->
			
			<div class="item-ct">

									<h3 c
 lass="item-title"><a class="mod-articles-category-title " href="https://www
 .nachbarschaftsverein-fuldatal.de/vorsorgevollmacht-patienten-und-betreuung
 sverfuegung">Vorsorgevollmacht, Patienten- und Betreuungsverfügung</a></h3>
 
				
				<div class="item-meta">
					
					
									</div>

									<p 
 class="item-introtext">
						Der Seniorenbeirat der Gemeinde Fuldatal und 
 der Nachbarschaftsverein Fuldatal hatten zu einer offenen Informationsveran
 staltung über Vorsorgevollmacht, Patienten- und Betreuungsverfügung eingela
 den.  Deren Vorsitzende Brigitte Ringeler-Leipholz und Michael Thöne (Bildm
 itte oben) freuten sich, rund 60 Gäste im BeneVit Haus Sonnenhof in Fuldata
 l-Ihringshausen am dritten Mittwoch im September begrüßen zu dürfen  Martin
 a Homburg vom Betreuungsverein e. V. Hofgeismar (Bild oben) hat den Anwesen
 den durch ihre&nbsp;verständliche und praxisnahe Darstellung nicht nur wich
 tige rechtliche Zusammenhänge...					</p>
				
									<p class="item-read
 more">
						<a class="mod-articles-category-title " href="https://www.nach
 barschaftsverein-fuldatal.de/vorsorgevollmacht-patienten-und-betreuungsverf
 uegung">
															Weiterlesen &hellip;													</a>
					</p>
			
 				</div>

			</div>
		</div>
	</div></div>
</p>
DTSTAMP:20260422T122726
DTSTART;TZID=Europe/Berlin:20261118T150000
DTEND;TZID=Europe/Berlin:20261118T170000
SEQUENCE:0
TRANSP:OPAQUE
END:VEVENT
END:VCALENDAR