BEGIN:VCALENDAR
VERSION:2.0
PRODID:-//jEvents 2.0 for Joomla//EN
CALSCALE:GREGORIAN
METHOD:PUBLISH
BEGIN:VTIMEZONE
TZID:Europe/Berlin
BEGIN:STANDARD
DTSTART:20241027T020000
RDATE:20250330T030000
TZOFFSETFROM:+0200
TZOFFSETTO:+0100
TZNAME:Europe/Berlin CET
END:STANDARD
BEGIN:STANDARD
DTSTART:20251026T020000
RDATE:20260329T030000
TZOFFSETFROM:+0200
TZOFFSETTO:+0100
TZNAME:Europe/Berlin CET
END:STANDARD
BEGIN:STANDARD
DTSTART:20261025T020000
RDATE:20270328T030000
TZOFFSETFROM:+0200
TZOFFSETTO:+0100
TZNAME:Europe/Berlin CET
END:STANDARD
BEGIN:STANDARD
DTSTART:20271031T020000
RDATE:20280326T030000
TZOFFSETFROM:+0200
TZOFFSETTO:+0100
TZNAME:Europe/Berlin CET
END:STANDARD
BEGIN:STANDARD
DTSTART:20281029T020000
RDATE:20290325T030000
TZOFFSETFROM:+0200
TZOFFSETTO:+0100
TZNAME:Europe/Berlin CET
END:STANDARD
BEGIN:STANDARD
DTSTART:20291028T020000
RDATE:20300331T030000
TZOFFSETFROM:+0200
TZOFFSETTO:+0100
TZNAME:Europe/Berlin CET
END:STANDARD
BEGIN:STANDARD
DTSTART:20301027T020000
RDATE:20310330T030000
TZOFFSETFROM:+0200
TZOFFSETTO:+0100
TZNAME:Europe/Berlin CET
END:STANDARD
BEGIN:STANDARD
DTSTART:20311026T020000
RDATE:20320328T030000
TZOFFSETFROM:+0200
TZOFFSETTO:+0100
TZNAME:Europe/Berlin CET
END:STANDARD
BEGIN:DAYLIGHT
DTSTART:20241014T103000
RDATE:20241027T020000
TZOFFSETFROM:+0100
TZOFFSETTO:+0200
TZNAME:Europe/Berlin CEST
END:DAYLIGHT
BEGIN:DAYLIGHT
DTSTART:20250330T030000
RDATE:20251026T020000
TZOFFSETFROM:+0100
TZOFFSETTO:+0200
TZNAME:Europe/Berlin CEST
END:DAYLIGHT
BEGIN:DAYLIGHT
DTSTART:20260329T030000
RDATE:20261025T020000
TZOFFSETFROM:+0100
TZOFFSETTO:+0200
TZNAME:Europe/Berlin CEST
END:DAYLIGHT
BEGIN:DAYLIGHT
DTSTART:20270328T030000
RDATE:20271031T020000
TZOFFSETFROM:+0100
TZOFFSETTO:+0200
TZNAME:Europe/Berlin CEST
END:DAYLIGHT
BEGIN:DAYLIGHT
DTSTART:20280326T030000
RDATE:20281029T020000
TZOFFSETFROM:+0100
TZOFFSETTO:+0200
TZNAME:Europe/Berlin CEST
END:DAYLIGHT
BEGIN:DAYLIGHT
DTSTART:20290325T030000
RDATE:20291028T020000
TZOFFSETFROM:+0100
TZOFFSETTO:+0200
TZNAME:Europe/Berlin CEST
END:DAYLIGHT
BEGIN:DAYLIGHT
DTSTART:20300331T030000
RDATE:20301027T020000
TZOFFSETFROM:+0100
TZOFFSETTO:+0200
TZNAME:Europe/Berlin CEST
END:DAYLIGHT
BEGIN:DAYLIGHT
DTSTART:20310330T030000
RDATE:20311026T020000
TZOFFSETFROM:+0100
TZOFFSETTO:+0200
TZNAME:Europe/Berlin CEST
END:DAYLIGHT
END:VTIMEZONE
BEGIN:VEVENT
UID:333a0c55813881d8cc7f644c7e60f441
CATEGORIES:Veranstaltungen
CREATED:20250905T191808
SUMMARY:Ihr Android-Smartphon /-Tablet, das unbekannte…Ding!
DESCRIPTION:<p></p><hr id="system-readmore" /><p><div class="moduletable ">
           
  <h3 >Wer weiß denn sowas?</h3>        

<div class="custom"  >
	<iframe sr
 c="https://www.raetselstunde.de/quizfrage-zufall.html" name="Zufalls-Quizfr
 age" width="100%" height="200" frameborder="0" scrolling="no" align="middle
 "></iframe></div>
</div>
</p><p><div class="moduletable ">
            <h4 
 >Das könnte Sie ebenfalls interessieren:</h4>        
<div class="magz-layo
 ut list-layout row">
			<div class="blog-item col-12">
			<div class="item-
 inner">
			<!-- Item image -->
						<!-- // Item image -->
			
			<div cla
 ss="item-ct">

									<h3 class="item-title"><a class="mod-articles-categ
 ory-title " href="/einladung-zur-mitgliederversammlung-am-29-04-2026">Einla
 dung zur Mitgliederversammlung am 29.04.2026</a></h3>
				
				<div class="
 item-meta">
					
					
									</div>

									<p class="item-introtext"
 >
						Sehr geehrtes Mitglied,unsere diesjährige ordentliche Mitgliederver
 sammlung findet statt <strong>am Mittwoch, 29.04.2026 um 17.00 Uhr in Raum 
 300 (2. Stock links) des Rathauses,</strong>Am Rathaus 9 in Fuldatal-Ihring
 shausen,zu der hiermit herzlichst eingeladen wird.  Auf der Tagesordnung st
 ehen folgende Themen:  TOP 1: Eröffnung und Begrüßung  TOP 2:&nbsp; Gedenke
 n an unsere verstorbenen Mitglieder  TOP 3:&nbsp; Berichte: Des Vorsitzende
 n und der Kassiererin  TOP 4:&nbsp; Aussprache zu den Berichten  TOP 5:&nbs
 p; Bericht der Revisoren und Antrag auf Entlastung des Vorstandes  TOP 6:&n
 bsp; Wahl einer Kassenprüferin oder eines Kassenprüfers  TOP 7:&nbsp;...			
 		</p>
				
									<p class="item-readmore">
						<a class="mod-articles
 -category-title " href="/einladung-zur-mitgliederversammlung-am-29-04-2026"
 >
															Weiterlesen &hellip;													</a>
					</p>
							</d
 iv>

			</div>
		</div>
			<div class="blog-item col-12">
			<div class="it
 em-inner">
			<!-- Item image -->
						<!-- // Item image -->
			
			<div 
 class="item-ct">

									<h3 class="item-title"><a class="mod-articles-ca
 tegory-title " href="/ihr-android-smartphon-tablet-das-unbekannte-wesen">Ih
 r Android Smartphon /Tablet - das unbekannte Wesen</a></h3>
				
				<div c
 lass="item-meta">
					
					
									</div>

									<p class="item-intr
 otext">
						Haben Sie kürzlich ein neues Smartphone/-Tablet erworben oder
  beabsichtigen Sie, sich diese neue Technik zuzulegen?  Und……………..  -&nbsp;
 sind noch unsicher mit der Bedienung,  -&nbsp;oder möchten noch weitere Fun
 ktionen kennenlernen,&nbsp;wie z.B. Ersteinrichtung,&nbsp;Installation von 
 Apps,&nbsp;Nutzung der Kamera,&nbsp;Versenden von Textnachrichten.    &nbsp
 ;Dann bieten wir Ihnen unsere Unterstützung an.&nbsp;  <strong>Der nächste 
 Workshop begann am&nbsp;25.03.2026&nbsp;von&nbsp;10.30&nbsp;Uhr – 11.30&nbs
 p;Uhr&nbsp;und findet&nbsp;jede Woche&nbsp;statt, insgesamt&nbsp;ca.6 x,&nb
 sp;maximal 10 Personen,&nbsp;im Rathaus&nbsp;2.Stock Zimmer&nbsp;301&nbsp;s
 tatt.&nbsp;</strong>  Um Voranmeldung wird gebeten.  Weitere Informationen 
 erhalten...					</p>
				
									<p class="item-readmore">
						<a class
 ="mod-articles-category-title " href="/ihr-android-smartphon-tablet-das-unb
 ekannte-wesen">
															Weiterlesen &hellip;													</a>
					<
 /p>
							</div>

			</div>
		</div>
			<div class="blog-item col-12">
			
 <div class="item-inner">
			<!-- Item image -->
						<!-- // Item image --
 >
			
			<div class="item-ct">

									<h3 class="item-title"><a class="m
 od-articles-category-title " href="/kulissenschieber-fuldatal-boten-guns-n-
 nuns">Kulissenschieber Fuldatal boten „Guns ‚n‘ Nuns“</a></h3>
				
				<di
 v class="item-meta">
					
					
									</div>

									<p class="item-i
 ntrotext">
						Im gut gefüllten FuldaTalerForum in Fuldatal-Ihringshausen
  wurde am Nachmittag des Frühlingsanfangs (21. März) Theaterfreunden ein eb
 enso unterhaltsames wie gelungenes Erlebnis geboten: Das Ensemble der Kulis
 senschieber präsentierte die spritzige Kriminalkomödie „Guns ’n’ Nuns“ – un
 d traf damit genau ins Schwarze. Der Eintritt war frei, doch die zahlreiche
 n Besucherinnen und Besucher zeigten sich überaus spendabel. Die gesammelte
 n Spenden kommen dem Nachbarschaftsverein Fuldatal zugute, der gemeinsam mi
 t den Kulissenschiebern zu diesem besonderen Theaternachmittag eingeladen h
 atte.  Bereits beim...					</p>
				
									<p class="item-readmore">
			
 			<a class="mod-articles-category-title " href="/kulissenschieber-fuldatal
 -boten-guns-n-nuns">
															Weiterlesen &hellip;													</a>
	
 				</p>
							</div>

			</div>
		</div>
			<div class="blog-item col-12"
 >
			<div class="item-inner">
			<!-- Item image -->
						<!-- // Item ima
 ge -->
			
			<div class="item-ct">

									<h3 class="item-title"><a cla
 ss="mod-articles-category-title " href="/gesunde-ernaehrung-im-alter-was-tu
 t-mir-gut">Gesunde Ernährung im Alter - was tut mir gut?</a></h3>
				
				
 <div class="item-meta">
					
					
									</div>

									<p class="ite
 m-introtext">
						Auf große Resonanz stieß die offene Informationsveranst
 altung zum Thema „Gesunde Ernährung im Alter – was tut mir gut?“, zu der de
 r Seniorenbeirat sowie der Nachbarschaftsverein Fuldatal Mitte März eingela
 den hatten. Interessierte Bürgerinnen und Bürger, darunter auch Fuldatals B
 ürgermeister Tore Florin, nutzten die Gelegenheit, sich umfassend zu inform
 ieren und miteinander ins Gespräch zu kommen.    <em>Referentin Brigitte Ri
 ngeler-Leipholz in Aktion</em>  Den Schwerpunkt der Veranstaltung bildete d
 as Thema „Fette“ als wichtiger Bestandteil einer ausgewogenen und abwechslu
 ngsreichen Ernährung. Die...					</p>
				
									<p class="item-readmore
 ">
						<a class="mod-articles-category-title " href="/gesunde-ernaehrung-
 im-alter-was-tut-mir-gut">
															Weiterlesen &hellip;													
 </a>
					</p>
							</div>

			</div>
		</div>
			<div class="blog-item c
 ol-12">
			<div class="item-inner">
			<!-- Item image -->
						<!-- // It
 em image -->
			
			<div class="item-ct">

									<h3 class="item-title">
 <a class="mod-articles-category-title " href="/seelisches-wohlergehen-im-al
 ter">Seelisches Wohlergehen im Alter: Informationsveranstaltung in Fuldatal
  stieß auf großes Interesse</a></h3>
				
				<div class="item-meta">
					
 
					
									</div>

									<p class="item-introtext">
						Auf Einla
 dung des Seniorenbeirats und des Nachbarschaftsvereins Fuldatal hatten inte
 ressierte Bürgerinnen und Bürger in der vorletzten Januarwoche die Gelegenh
 eit, sich intensiv mit einem Thema auseinanderzusetzen, das viele Menschen 
 bewegt: dem seelischen Wohlergehen im Alter. Die gut besuchte Informationsv
 eranstaltung bot wertvolle Impulse, praxisnahe Anregungen und Raum für Aust
 ausch in angenehmer Atmosphäre.  Als Referentin konnte die Psychologin und 
 Therapeutin&nbsp;Cordula Schmidt&nbsp;gewonnen werden, die den Teilnehmende
 n auf verständliche und zugleich fundierte Weise wissenschaftlich belegte,.
 ..					</p>
				
									<p class="item-readmore">
						<a class="mod-art
 icles-category-title " href="/seelisches-wohlergehen-im-alter">
											
 				Weiterlesen &hellip;													</a>
					</p>
							</div>

			</div
 >
		</div>
			<div class="blog-item col-12">
			<div class="item-inner">
		
 	<!-- Item image -->
						<!-- // Item image -->
			
			<div class="item-c
 t">

									<h3 class="item-title"><a class="mod-articles-category-title 
 " href="/neujahrskonzert-2026-der-musikschule-chroma">Neujahrskonzert 2026 
 der Musikschule Chroma</a></h3>
				
				<div class="item-meta">
					
				
 	
									</div>

									<p class="item-introtext">
						Natürlich war 
 der Nachbarschaftsverein Fuldatal beim traditionellen Neujahrskonzert der M
 usikschule Chroma in der Mehrzweckhalle in Vellmar-Frommershausen wieder mi
 t von der Partie. Die Louis Spohr-Sinfonietta unter der Leitung von Lore Sc
 hrettner begeisterte die zahlreichen Gäste auf ein Neues mit virtuos dargeb
 otenen Stücken, voller temperamentvoller Hingabe, aber auch gefühlvoll und 
 besinnlich.  <em>Die Louis Spohr-Sinfonietta unter der Leitung von Lore Sch
 rettner (Bildmitte)</em> Das breit gefächerte Repertoire umfasste dieses Ma
 l unter anderem Stücke von Robert Stolz, wie den UNO-Marsch &nbsp;sowie –..
 .					</p>
				
									<p class="item-readmore">
						<a class="mod-arti
 cles-category-title " href="/neujahrskonzert-2026-der-musikschule-chroma">

 															Weiterlesen &hellip;													</a>
					</p>
							</div
 >

			</div>
		</div>
			<div class="blog-item col-12">
			<div class="item
 -inner">
			<!-- Item image -->
						<!-- // Item image -->
			
			<div cl
 ass="item-ct">

									<h3 class="item-title"><a class="mod-articles-cate
 gory-title " href="/senioren-in-bewegung-neustart-nach-der-winterpause-am-1
 5-januar">Senioren in Bewegung - nach der Winterpause am 15. Januar neu ges
 tartet</a></h3>
				
				<div class="item-meta">
					
					
									</div
 >

									<p class="item-introtext">
						Der Nachbarschaftsverein bring
 t „Senioren in Bewegung“ – Training für eine sichere Mobilität im Alltag Ei
 nmal wöchentlich am Donnerstag treffen sich aktive Seniorinnen und Senioren
  im Fuldataler Forum, um sich mithilfe einer im Seniorensport erfahrenen Sp
 ortlehrerin für ihren Alltag in Form zu bringen. So trainieren sie am Anfan
 g zur Musik der 60er ihre Orientierung, ihr Gedächtnis und Multitasking Fäh
 igkeiten, indem nicht nur rhythmisch gelaufen wird, sondern indem Zusatzauf
 gaben (Bälle zuwerfen, einem Partner wie ein Schatten zu folgen, Übungen zu
  Zahlen erledigen o.ä.) zu bewältigen sind.					</p>
				
									<p class
 ="item-readmore">
						<a class="mod-articles-category-title " href="/seni
 oren-in-bewegung-neustart-nach-der-winterpause-am-15-januar">
													
 		Weiterlesen &hellip;													</a>
					</p>
							</div>

			</div>

 		</div>
			<div class="blog-item col-12">
			<div class="item-inner">
			<
 !-- Item image -->
						<!-- // Item image -->
			
			<div class="item-ct"
 >

									<h3 class="item-title"><a class="mod-articles-category-title " 
 href="/sicher-im-alter-informiert-statt-hereingefallen">Sicher im Alter - i
 nformiert statt hereingefallen</a></h3>
				
				<div class="item-meta">
		
 			
					
									</div>

									<p class="item-introtext">
						Mit gr
 oßem Interesse und spürbarer Aufmerksamkeit verfolgten zahlreiche Gäste am 
 dritten Mittwoch im November eine offene Informationsveranstaltung unter de
 m Titel „Sicher im Alter – informiert statt hereingefallen“, zu der der Nac
 hbarschaftsverein Fuldatal zusammen mit dem Seniorenbeirat der Gemeinde Ful
 datal eingeladen haben. Ziel des Abends war es, ältere Menschen über aktuel
 le Betrugsmaschen aufzuklären und ihnen praktische Handlungsempfehlungen an
  die Hand zu geben. Die Resonanz zeigte deutlich, wie wichtig das Thema für
  viele Seniorinnen und Senioren inzwischen geworden ist.  <em>Bild oben:</e
 m>...					</p>
				
									<p class="item-readmore">
						<a class="mod-
 articles-category-title " href="/sicher-im-alter-informiert-statt-hereingef
 allen">
															Weiterlesen &hellip;													</a>
					</p>
				
 			</div>

			</div>
		</div>
			<div class="blog-item col-12">
			<div cla
 ss="item-inner">
			<!-- Item image -->
						<!-- // Item image -->
			
		
 	<div class="item-ct">

									<h3 class="item-title"><a class="mod-artic
 les-category-title " href="/vorsorgevollmacht-patienten-und-betreuungsverfu
 egung">Vorsorgevollmacht, Patienten- und Betreuungsverfügung</a></h3>
				

 				<div class="item-meta">
					
					
									</div>

									<p class=
 "item-introtext">
						Der Seniorenbeirat der Gemeinde Fuldatal und der Na
 chbarschaftsverein Fuldatal hatten zu einer offenen Informationsveranstaltu
 ng über Vorsorgevollmacht, Patienten- und Betreuungsverfügung eingeladen.  
 Deren Vorsitzende Brigitte Ringeler-Leipholz und Michael Thöne (Bildmitte o
 ben) freuten sich, rund 60 Gäste im BeneVit Haus Sonnenhof in Fuldatal-Ihri
 ngshausen am dritten Mittwoch im September begrüßen zu dürfen  Martina Homb
 urg vom Betreuungsverein e. V. Hofgeismar (Bild oben) hat den Anwesenden du
 rch ihre&nbsp;verständliche und praxisnahe Darstellung nicht nur wichtige r
 echtliche Zusammenhänge...					</p>
				
									<p class="item-readmore">
 
						<a class="mod-articles-category-title " href="/vorsorgevollmacht-pat
 ienten-und-betreuungsverfuegung">
															Weiterlesen &hellip;						
 							</a>
					</p>
							</div>

			</div>
		</div>
	</div></div>
</p>
X-ALT-DESC;FMTTYPE=text/html:<p></p><hr id="system-readmore" /><p><div class="moduletable ">
           
  <h3 >Wer weiß denn sowas?</h3>        

<div class="custom"  >
	<iframe sr
 c="https://www.raetselstunde.de/quizfrage-zufall.html" name="Zufalls-Quizfr
 age" width="100%" height="200" frameborder="0" scrolling="no" align="middle
 "></iframe></div>
</div>
</p><p><div class="moduletable ">
            <h4 
 >Das könnte Sie ebenfalls interessieren:</h4>        
<div class="magz-layo
 ut list-layout row">
			<div class="blog-item col-12">
			<div class="item-
 inner">
			<!-- Item image -->
						<!-- // Item image -->
			
			<div cla
 ss="item-ct">

									<h3 class="item-title"><a class="mod-articles-categ
 ory-title " href="https://www.nachbarschaftsverein-fuldatal.de/einladung-zu
 r-mitgliederversammlung-am-29-04-2026">Einladung zur Mitgliederversammlung 
 am 29.04.2026</a></h3>
				
				<div class="item-meta">
					
					
							
 		</div>

									<p class="item-introtext">
						Sehr geehrtes Mitglied,
 unsere diesjährige ordentliche Mitgliederversammlung findet statt <strong>a
 m Mittwoch, 29.04.2026 um 17.00 Uhr in Raum 300 (2. Stock links) des Rathau
 ses,</strong>Am Rathaus 9 in Fuldatal-Ihringshausen,zu der hiermit herzlich
 st eingeladen wird.  Auf der Tagesordnung stehen folgende Themen:  TOP 1: E
 röffnung und Begrüßung  TOP 2:&nbsp; Gedenken an unsere verstorbenen Mitgli
 eder  TOP 3:&nbsp; Berichte: Des Vorsitzenden und der Kassiererin  TOP 4:&n
 bsp; Aussprache zu den Berichten  TOP 5:&nbsp; Bericht der Revisoren und An
 trag auf Entlastung des Vorstandes  TOP 6:&nbsp; Wahl einer Kassenprüferin 
 oder eines Kassenprüfers  TOP 7:&nbsp;...					</p>
				
									<p class="
 item-readmore">
						<a class="mod-articles-category-title " href="https:/
 /www.nachbarschaftsverein-fuldatal.de/einladung-zur-mitgliederversammlung-a
 m-29-04-2026">
															Weiterlesen &hellip;													</a>
					</
 p>
							</div>

			</div>
		</div>
			<div class="blog-item col-12">
			<
 div class="item-inner">
			<!-- Item image -->
						<!-- // Item image -->
 
			
			<div class="item-ct">

									<h3 class="item-title"><a class="mo
 d-articles-category-title " href="https://www.nachbarschaftsverein-fuldatal
 .de/ihr-android-smartphon-tablet-das-unbekannte-wesen">Ihr Android Smartpho
 n /Tablet - das unbekannte Wesen</a></h3>
				
				<div class="item-meta">

 					
					
									</div>

									<p class="item-introtext">
						Habe
 n Sie kürzlich ein neues Smartphone/-Tablet erworben oder beabsichtigen Sie
 , sich diese neue Technik zuzulegen?  Und……………..  -&nbsp;sind noch unsicher
  mit der Bedienung,  -&nbsp;oder möchten noch weitere Funktionen kennenlern
 en,&nbsp;wie z.B. Ersteinrichtung,&nbsp;Installation von Apps,&nbsp;Nutzung
  der Kamera,&nbsp;Versenden von Textnachrichten.    &nbsp;Dann bieten wir I
 hnen unsere Unterstützung an.&nbsp;  <strong>Der nächste Workshop begann am
 &nbsp;25.03.2026&nbsp;von&nbsp;10.30&nbsp;Uhr – 11.30&nbsp;Uhr&nbsp;und fin
 det&nbsp;jede Woche&nbsp;statt, insgesamt&nbsp;ca.6 x,&nbsp;maximal 10 Pers
 onen,&nbsp;im Rathaus&nbsp;2.Stock Zimmer&nbsp;301&nbsp;statt.&nbsp;</stron
 g>  Um Voranmeldung wird gebeten.  Weitere Informationen erhalten...					</
 p>
				
									<p class="item-readmore">
						<a class="mod-articles-cat
 egory-title " href="https://www.nachbarschaftsverein-fuldatal.de/ihr-androi
 d-smartphon-tablet-das-unbekannte-wesen">
															Weiterlesen &helli
 p;													</a>
					</p>
							</div>

			</div>
		</div>
			<div cla
 ss="blog-item col-12">
			<div class="item-inner">
			<!-- Item image -->
	
 					<!-- // Item image -->
			
			<div class="item-ct">

									<h3 clas
 s="item-title"><a class="mod-articles-category-title " href="https://www.na
 chbarschaftsverein-fuldatal.de/kulissenschieber-fuldatal-boten-guns-n-nuns"
 >Kulissenschieber Fuldatal boten „Guns ‚n‘ Nuns“</a></h3>
				
				<div cla
 ss="item-meta">
					
					
									</div>

									<p class="item-introt
 ext">
						Im gut gefüllten FuldaTalerForum in Fuldatal-Ihringshausen wurd
 e am Nachmittag des Frühlingsanfangs (21. März) Theaterfreunden ein ebenso 
 unterhaltsames wie gelungenes Erlebnis geboten: Das Ensemble der Kulissensc
 hieber präsentierte die spritzige Kriminalkomödie „Guns ’n’ Nuns“ – und tra
 f damit genau ins Schwarze. Der Eintritt war frei, doch die zahlreichen Bes
 ucherinnen und Besucher zeigten sich überaus spendabel. Die gesammelten Spe
 nden kommen dem Nachbarschaftsverein Fuldatal zugute, der gemeinsam mit den
  Kulissenschiebern zu diesem besonderen Theaternachmittag eingeladen hatte.
   Bereits beim...					</p>
				
									<p class="item-readmore">
						<a
  class="mod-articles-category-title " href="https://www.nachbarschaftsverei
 n-fuldatal.de/kulissenschieber-fuldatal-boten-guns-n-nuns">
															
 Weiterlesen &hellip;													</a>
					</p>
							</div>

			</div>
		
 </div>
			<div class="blog-item col-12">
			<div class="item-inner">
			<!-
 - Item image -->
						<!-- // Item image -->
			
			<div class="item-ct">

 
									<h3 class="item-title"><a class="mod-articles-category-title " hr
 ef="https://www.nachbarschaftsverein-fuldatal.de/gesunde-ernaehrung-im-alte
 r-was-tut-mir-gut">Gesunde Ernährung im Alter - was tut mir gut?</a></h3>
	
 			
				<div class="item-meta">
					
					
									</div>

									<p cl
 ass="item-introtext">
						Auf große Resonanz stieß die offene Information
 sveranstaltung zum Thema „Gesunde Ernährung im Alter – was tut mir gut?“, z
 u der der Seniorenbeirat sowie der Nachbarschaftsverein Fuldatal Mitte März
  eingeladen hatten. Interessierte Bürgerinnen und Bürger, darunter auch Ful
 datals Bürgermeister Tore Florin, nutzten die Gelegenheit, sich umfassend z
 u informieren und miteinander ins Gespräch zu kommen.    <em>Referentin Bri
 gitte Ringeler-Leipholz in Aktion</em>  Den Schwerpunkt der Veranstaltung b
 ildete das Thema „Fette“ als wichtiger Bestandteil einer ausgewogenen und a
 bwechslungsreichen Ernährung. Die...					</p>
				
									<p class="item-
 readmore">
						<a class="mod-articles-category-title " href="https://www.
 nachbarschaftsverein-fuldatal.de/gesunde-ernaehrung-im-alter-was-tut-mir-gu
 t">
															Weiterlesen &hellip;													</a>
					</p>
							<
 /div>

			</div>
		</div>
			<div class="blog-item col-12">
			<div class="
 item-inner">
			<!-- Item image -->
						<!-- // Item image -->
			
			<di
 v class="item-ct">

									<h3 class="item-title"><a class="mod-articles-
 category-title " href="https://www.nachbarschaftsverein-fuldatal.de/seelisc
 hes-wohlergehen-im-alter">Seelisches Wohlergehen im Alter: Informationsvera
 nstaltung in Fuldatal stieß auf großes Interesse</a></h3>
				
				<div cla
 ss="item-meta">
					
					
									</div>

									<p class="item-introt
 ext">
						Auf Einladung des Seniorenbeirats und des Nachbarschaftsvereins
  Fuldatal hatten interessierte Bürgerinnen und Bürger in der vorletzten Jan
 uarwoche die Gelegenheit, sich intensiv mit einem Thema auseinanderzusetzen
 , das viele Menschen bewegt: dem seelischen Wohlergehen im Alter. Die gut b
 esuchte Informationsveranstaltung bot wertvolle Impulse, praxisnahe Anregun
 gen und Raum für Austausch in angenehmer Atmosphäre.  Als Referentin konnte
  die Psychologin und Therapeutin&nbsp;Cordula Schmidt&nbsp;gewonnen werden,
  die den Teilnehmenden auf verständliche und zugleich fundierte Weise wisse
 nschaftlich belegte,...					</p>
				
									<p class="item-readmore">
		
 				<a class="mod-articles-category-title " href="https://www.nachbarschaft
 sverein-fuldatal.de/seelisches-wohlergehen-im-alter">
															Weiter
 lesen &hellip;													</a>
					</p>
							</div>

			</div>
		</div>
 
			<div class="blog-item col-12">
			<div class="item-inner">
			<!-- Item
  image -->
						<!-- // Item image -->
			
			<div class="item-ct">

					
 				<h3 class="item-title"><a class="mod-articles-category-title " href="ht
 tps://www.nachbarschaftsverein-fuldatal.de/neujahrskonzert-2026-der-musiksc
 hule-chroma">Neujahrskonzert 2026 der Musikschule Chroma</a></h3>
				
				
 <div class="item-meta">
					
					
									</div>

									<p class="ite
 m-introtext">
						Natürlich war der Nachbarschaftsverein Fuldatal beim tr
 aditionellen Neujahrskonzert der Musikschule Chroma in der Mehrzweckhalle i
 n Vellmar-Frommershausen wieder mit von der Partie. Die Louis Spohr-Sinfoni
 etta unter der Leitung von Lore Schrettner begeisterte die zahlreichen Gäst
 e auf ein Neues mit virtuos dargebotenen Stücken, voller temperamentvoller 
 Hingabe, aber auch gefühlvoll und besinnlich.  <em>Die Louis Spohr-Sinfonie
 tta unter der Leitung von Lore Schrettner (Bildmitte)</em> Das breit gefäch
 erte Repertoire umfasste dieses Mal unter anderem Stücke von Robert Stolz, 
 wie den UNO-Marsch &nbsp;sowie –...					</p>
				
									<p class="item-r
 eadmore">
						<a class="mod-articles-category-title " href="https://www.n
 achbarschaftsverein-fuldatal.de/neujahrskonzert-2026-der-musikschule-chroma
 ">
															Weiterlesen &hellip;													</a>
					</p>
							</
 div>

			</div>
		</div>
			<div class="blog-item col-12">
			<div class="i
 tem-inner">
			<!-- Item image -->
						<!-- // Item image -->
			
			<div
  class="item-ct">

									<h3 class="item-title"><a class="mod-articles-c
 ategory-title " href="https://www.nachbarschaftsverein-fuldatal.de/senioren
 -in-bewegung-neustart-nach-der-winterpause-am-15-januar">Senioren in Bewegu
 ng - nach der Winterpause am 15. Januar neu gestartet</a></h3>
				
				<di
 v class="item-meta">
					
					
									</div>

									<p class="item-i
 ntrotext">
						Der Nachbarschaftsverein bringt „Senioren in Bewegung“ – T
 raining für eine sichere Mobilität im Alltag Einmal wöchentlich am Donnerst
 ag treffen sich aktive Seniorinnen und Senioren im Fuldataler Forum, um sic
 h mithilfe einer im Seniorensport erfahrenen Sportlehrerin für ihren Alltag
  in Form zu bringen. So trainieren sie am Anfang zur Musik der 60er ihre Or
 ientierung, ihr Gedächtnis und Multitasking Fähigkeiten, indem nicht nur rh
 ythmisch gelaufen wird, sondern indem Zusatzaufgaben (Bälle zuwerfen, einem
  Partner wie ein Schatten zu folgen, Übungen zu Zahlen erledigen o.ä.) zu b
 ewältigen sind.					</p>
				
									<p class="item-readmore">
						<a c
 lass="mod-articles-category-title " href="https://www.nachbarschaftsverein-
 fuldatal.de/senioren-in-bewegung-neustart-nach-der-winterpause-am-15-januar
 ">
															Weiterlesen &hellip;													</a>
					</p>
							</
 div>

			</div>
		</div>
			<div class="blog-item col-12">
			<div class="i
 tem-inner">
			<!-- Item image -->
						<!-- // Item image -->
			
			<div
  class="item-ct">

									<h3 class="item-title"><a class="mod-articles-c
 ategory-title " href="https://www.nachbarschaftsverein-fuldatal.de/sicher-i
 m-alter-informiert-statt-hereingefallen">Sicher im Alter - informiert statt
  hereingefallen</a></h3>
				
				<div class="item-meta">
					
					
					
 				</div>

									<p class="item-introtext">
						Mit großem Interesse 
 und spürbarer Aufmerksamkeit verfolgten zahlreiche Gäste am dritten Mittwoc
 h im November eine offene Informationsveranstaltung unter dem Titel „Sicher
  im Alter – informiert statt hereingefallen“, zu der der Nachbarschaftsvere
 in Fuldatal zusammen mit dem Seniorenbeirat der Gemeinde Fuldatal eingelade
 n haben. Ziel des Abends war es, ältere Menschen über aktuelle Betrugsmasch
 en aufzuklären und ihnen praktische Handlungsempfehlungen an die Hand zu ge
 ben. Die Resonanz zeigte deutlich, wie wichtig das Thema für viele Seniorin
 nen und Senioren inzwischen geworden ist.  <em>Bild oben:</em>...					</p>

 				
									<p class="item-readmore">
						<a class="mod-articles-catego
 ry-title " href="https://www.nachbarschaftsverein-fuldatal.de/sicher-im-alt
 er-informiert-statt-hereingefallen">
															Weiterlesen &hellip;			
 										</a>
					</p>
							</div>

			</div>
		</div>
			<div class="b
 log-item col-12">
			<div class="item-inner">
			<!-- Item image -->
						
 <!-- // Item image -->
			
			<div class="item-ct">

									<h3 class="it
 em-title"><a class="mod-articles-category-title " href="https://www.nachbar
 schaftsverein-fuldatal.de/vorsorgevollmacht-patienten-und-betreuungsverfueg
 ung">Vorsorgevollmacht, Patienten- und Betreuungsverfügung</a></h3>
				
		
 		<div class="item-meta">
					
					
									</div>

									<p class="i
 tem-introtext">
						Der Seniorenbeirat der Gemeinde Fuldatal und der Nach
 barschaftsverein Fuldatal hatten zu einer offenen Informationsveranstaltung
  über Vorsorgevollmacht, Patienten- und Betreuungsverfügung eingeladen.  De
 ren Vorsitzende Brigitte Ringeler-Leipholz und Michael Thöne (Bildmitte obe
 n) freuten sich, rund 60 Gäste im BeneVit Haus Sonnenhof in Fuldatal-Ihring
 shausen am dritten Mittwoch im September begrüßen zu dürfen  Martina Hombur
 g vom Betreuungsverein e. V. Hofgeismar (Bild oben) hat den Anwesenden durc
 h ihre&nbsp;verständliche und praxisnahe Darstellung nicht nur wichtige rec
 htliche Zusammenhänge...					</p>
				
									<p class="item-readmore">
	
 					<a class="mod-articles-category-title " href="https://www.nachbarschaf
 tsverein-fuldatal.de/vorsorgevollmacht-patienten-und-betreuungsverfuegung">
 
															Weiterlesen &hellip;													</a>
					</p>
							</di
 v>

			</div>
		</div>
	</div></div>
</p>
DTSTAMP:20260419T174146
DTSTART;TZID=Europe/Berlin:20251015T103000
DTEND;TZID=Europe/Berlin:20251015T113000
SEQUENCE:0
TRANSP:OPAQUE
END:VEVENT
END:VCALENDAR